BEGIN:VCALENDAR
VERSION:2.0
PRODID:-//LE KA - CONCERTS - SPECTACLES - ECPv6.15.20//NONSGML v1.0//EN
CALSCALE:GREGORIAN
METHOD:PUBLISH
X-ORIGINAL-URL:https://le-ka-oneagain.org
X-WR-CALDESC:Évènements pour LE KA - CONCERTS - SPECTACLES
REFRESH-INTERVAL;VALUE=DURATION:PT1H
X-Robots-Tag:noindex
X-PUBLISHED-TTL:PT1H
BEGIN:VTIMEZONE
TZID:Europe/Paris
BEGIN:DAYLIGHT
TZOFFSETFROM:+0100
TZOFFSETTO:+0200
TZNAME:CEST
DTSTART:20230326T010000
END:DAYLIGHT
BEGIN:STANDARD
TZOFFSETFROM:+0200
TZOFFSETTO:+0100
TZNAME:CET
DTSTART:20231029T010000
END:STANDARD
BEGIN:DAYLIGHT
TZOFFSETFROM:+0100
TZOFFSETTO:+0200
TZNAME:CEST
DTSTART:20240331T010000
END:DAYLIGHT
BEGIN:STANDARD
TZOFFSETFROM:+0200
TZOFFSETTO:+0100
TZNAME:CET
DTSTART:20241027T010000
END:STANDARD
BEGIN:DAYLIGHT
TZOFFSETFROM:+0100
TZOFFSETTO:+0200
TZNAME:CEST
DTSTART:20250330T010000
END:DAYLIGHT
BEGIN:STANDARD
TZOFFSETFROM:+0200
TZOFFSETTO:+0100
TZNAME:CET
DTSTART:20251026T010000
END:STANDARD
END:VTIMEZONE
BEGIN:VEVENT
DTSTART;TZID=Europe/Paris:20240709T190000
DTEND;TZID=Europe/Paris:20240709T220000
DTSTAMP:20260423T113305
CREATED:20240613T132607Z
LAST-MODIFIED:20241026T173213Z
UID:93-1720551600-1720562400@le-ka-oneagain.org
SUMMARY:Zikahi
DESCRIPTION:Zikahi invite le public à un voyage musical métissé.\nSa voix envoûtante et solaire est toujours reçue avec émotion\, enthousiasme et émerveillement de la part du public ainsi que des programmateurs.\n\n\nZikahi c’est….\n« Les élans généreux de la chanson afro-pop mondialiste.\nJeune artiste au grain vocal solaire\, Zikahi jongle avec les métissages sonores et les préoccupations humanistes qui colorent des chansons aux groove subtilement soyeux. Afro-pop\, soul\, folk-song ou world-jazz\, le répertoire de cette chanteuse pianiste\, née d’une mère française et d’un père ivoirien\, déploie un univers tour à tour sensible et énergique\, sémillant et émouvant. Avec ses mélodies suaves et ses refrains enivrants\, Zikahi relie ses racines africaines aux courants chauds d’une chanson mondialiste éminemment généreuse. »\n(Marc Ambrogiani\, Directeur du Festival des Nuits Métis où Zikahi a été nommée Lauréate en 2022).\n\n\n \n\n\n\n\n\n\nExtraits Live I :\nhttps://youtu.be/89FKRBIZRvI\nI Love It :\nhttps://youtu.be/RH-zTUcejq8\nMama :\nhttps://youtu.be/IkC-BBLwSE4\n\n\n\nExtraits Live II :\nhttps://youtu.be/l1DUN5NrnX4\nExtraits Live III :\nhttps://youtu.be/i4Ic8wcK3II\nExtraits Live Zik Zak Pujaut :\nhttps://youtu.be/ol0Gc5yFiDc\n\n\n\n\n\n\n  \nZikahi voyage musical métissé.\nZikahi voyage musical métissé.
URL:https://le-ka-oneagain.org/concert/apero-concert-9/
LOCATION:Le KA\, 148 Avenue des Chalus\, Forcalquier\, 04300\, France
CATEGORIES:Apero Concert
ATTACH;FMTTYPE=image/jpeg:https://le-ka-oneagain.org/wp-content/uploads/2024/06/Zikahi-voyage-musical-metisse.jpg
ORGANIZER;CN="One Again":MAILTO:direction@le-ka-oneagain.org
END:VEVENT
END:VCALENDAR