BEGIN:VCALENDAR
VERSION:2.0
PRODID:-//LE KA - CONCERTS - SPECTACLES - ECPv6.15.20//NONSGML v1.0//EN
CALSCALE:GREGORIAN
METHOD:PUBLISH
X-WR-CALNAME:LE KA - CONCERTS - SPECTACLES
X-ORIGINAL-URL:https://le-ka-oneagain.org
X-WR-CALDESC:Évènements pour LE KA - CONCERTS - SPECTACLES
REFRESH-INTERVAL;VALUE=DURATION:PT1H
X-Robots-Tag:noindex
X-PUBLISHED-TTL:PT1H
BEGIN:VTIMEZONE
TZID:Europe/Paris
BEGIN:DAYLIGHT
TZOFFSETFROM:+0100
TZOFFSETTO:+0200
TZNAME:CEST
DTSTART:20230326T010000
END:DAYLIGHT
BEGIN:STANDARD
TZOFFSETFROM:+0200
TZOFFSETTO:+0100
TZNAME:CET
DTSTART:20231029T010000
END:STANDARD
BEGIN:DAYLIGHT
TZOFFSETFROM:+0100
TZOFFSETTO:+0200
TZNAME:CEST
DTSTART:20240331T010000
END:DAYLIGHT
BEGIN:STANDARD
TZOFFSETFROM:+0200
TZOFFSETTO:+0100
TZNAME:CET
DTSTART:20241027T010000
END:STANDARD
BEGIN:DAYLIGHT
TZOFFSETFROM:+0100
TZOFFSETTO:+0200
TZNAME:CEST
DTSTART:20250330T010000
END:DAYLIGHT
BEGIN:STANDARD
TZOFFSETFROM:+0200
TZOFFSETTO:+0100
TZNAME:CET
DTSTART:20251026T010000
END:STANDARD
END:VTIMEZONE
BEGIN:VEVENT
DTSTART;TZID=Europe/Paris:20241013T163000
DTEND;TZID=Europe/Paris:20241013T180000
DTSTAMP:20260423T063154
CREATED:20241001T135502Z
LAST-MODIFIED:20241026T173156Z
UID:593-1728837000-1728842400@le-ka-oneagain.org
SUMMARY:LES DIMANCHES DU CONTE
DESCRIPTION:LE POURQUOI / COMMENT : Les dimanches du conte de Forcalquier\, c’est l' »antenne internationale » d’une « tradition contemporaine » née à Montréal il y a vingt-cinq ans et colportée en Haute- Provence en 2022 à l’initiative de La Compagnie d’A\, Pichaïm et De Bouche à Oreilles. \nUn moment parfait pour finir le week-end quand il ne fait pas encore trop chaud.\nÀ partir de 16 h 30\, scène ouverte : qui veut\, dans la salle\, prend son courage à deux mains et monte sur les planches pour conter\, dire\, chanter quelque chose. Après une pause goûter-hydratation\, les pros entrent en lice pour une heure de spectacle. \nLes dimanches du conte c’est bieng. Venez ! \nJ.M Massie\nAVEC QUI : « La vie s’occupe d’improviser à ma place »\, dit Jean-Marc Massie\, co-fondateur des Dimanches du Conte de Montréal. Il va nous raconter le karma d’une famille italo‐irlandaise dont l’arbre généalogique\, maintes fois travesti\, a été amputé de ses racines maudites à coups d’amnésies sélectives et de refoulements identitaires. Le poivrot du bistrot du coin\, le gala à la « salle multi-fonctionnelle » du Portel\, les coups de foudre\, les antidépresseurs\, les voyages à Florence\, la famille\, la Gaspésie\, les ancêtres amérindiens… On se demande parfois comment il nous a emmené jusque-là\, sans transition\, tout naturellement. On y réfléchira plus tard\, car on vient d’entrer dans une pharmacie parisienne où tout le personnel a enfilé des masques\, le croyant contagieux. Deux minutes plus tard\, il nous raconte son trip au LSD et l’armoire à pharmacie de sa mère. \nOU : Au Ka\, bien sûr ! \n 
URL:https://le-ka-oneagain.org/concert/les-dimanches-du-conte/
LOCATION:Le KA\, 148 Avenue des Chalus\, Forcalquier\, 04300\, France
CATEGORIES:Conte
ATTACH;FMTTYPE=image/jpeg:https://le-ka-oneagain.org/wp-content/uploads/2024/10/lesdimanches_du_conte.jpg
END:VEVENT
END:VCALENDAR