BEGIN:VCALENDAR
VERSION:2.0
PRODID:-//LE KA - CONCERTS - SPECTACLES - ECPv6.15.20//NONSGML v1.0//EN
CALSCALE:GREGORIAN
METHOD:PUBLISH
X-WR-CALNAME:LE KA - CONCERTS - SPECTACLES
X-ORIGINAL-URL:https://le-ka-oneagain.org
X-WR-CALDESC:Évènements pour LE KA - CONCERTS - SPECTACLES
REFRESH-INTERVAL;VALUE=DURATION:PT1H
X-Robots-Tag:noindex
X-PUBLISHED-TTL:PT1H
BEGIN:VTIMEZONE
TZID:Europe/Paris
BEGIN:DAYLIGHT
TZOFFSETFROM:+0100
TZOFFSETTO:+0200
TZNAME:CEST
DTSTART:20230326T010000
END:DAYLIGHT
BEGIN:STANDARD
TZOFFSETFROM:+0200
TZOFFSETTO:+0100
TZNAME:CET
DTSTART:20231029T010000
END:STANDARD
BEGIN:DAYLIGHT
TZOFFSETFROM:+0100
TZOFFSETTO:+0200
TZNAME:CEST
DTSTART:20240331T010000
END:DAYLIGHT
BEGIN:STANDARD
TZOFFSETFROM:+0200
TZOFFSETTO:+0100
TZNAME:CET
DTSTART:20241027T010000
END:STANDARD
BEGIN:DAYLIGHT
TZOFFSETFROM:+0100
TZOFFSETTO:+0200
TZNAME:CEST
DTSTART:20250330T010000
END:DAYLIGHT
BEGIN:STANDARD
TZOFFSETFROM:+0200
TZOFFSETTO:+0100
TZNAME:CET
DTSTART:20251026T010000
END:STANDARD
END:VTIMEZONE
BEGIN:VEVENT
DTSTART;TZID=Europe/Paris:20241102T110000
DTEND;TZID=Europe/Paris:20241102T150000
DTSTAMP:20260423T044557
CREATED:20241026T150024Z
LAST-MODIFIED:20241030T153343Z
UID:640-1730545200-1730559600@le-ka-oneagain.org
SUMMARY:ATELIERS BEATMAKING
DESCRIPTION:Atelier Beatmaking & Mix Platines avec DJ Kep Dany\nPlongez dans l’univers du beatmaking et du mix platines lors d’un atelier animé par DJ Kep Dany\, DJ et producteur de renom (Mister Brown\, Walter Gallay\, Mojo\, Chronique de Mars). Passionné de musique et créateur accompli\, il travaille avec des machines emblématiques telles que l’Akai MPC\, Ableton Live et Serato Studio\, en jouant aussi bien sur des platines vinyles que numériques. \nL’atelier est conçu comme une initiation complète à la production musicale\, avec plusieurs sessions de 45 minutes tout au long de la journée. Chaque session abordera différents aspects du beatmaking et du DJing\, permettant aux participants de s’immerger progressivement dans l’univers du son. Vous découvrirez : \n• La présentation de la légendaire Akai MPC : son histoire\, son fonctionnement\, et pourquoi elle est un outil incontournable pour les producteurs de musique. \n• Le sampling : apprendre à découper\, manipuler et réorganiser des sons pour créer vos propres beats. \n• Le juggling : techniques de manipulation et de mixage pour jouer avec les rythmes et les boucles\, sur platines vinyles ou numériques. \nCet atelier est ouvert à tous\, que vous soyez novice ou déjà familier avec le beatmaking. Chaque session de 45 minutes permettra d’approfondir les techniques abordées\, tout en s’adaptant au niveau et aux intérêts des participants. Une occasion unique d’apprendre les bases de la production musicale et de développer vos compétences dans une ambiance conviviale et créative. \nInscriptions\nEntre 11h et 15h\, des créneaux d’une heure sont mis en place afin de permettre à chacune et chacun de prendre possession de ces outils qui vous ouvrirons les portes de la création musicale.\nRenseignez vos nom\, prénom et votre âge à : direction@le-ka-oneagain.org\,\nnous vous renverrons les horaires de votre atelier. \nTarif plein : 10€/heure – tarif solidaire\, moins de 20 ans : 7€/ heure.\nGratuit pour les moins de 16 ans. \nBienvenue
URL:https://le-ka-oneagain.org/concert/ateliers-beatmaking/
LOCATION:Le KA\, 148 Avenue des Chalus\, Forcalquier\, 04300\, France
CATEGORIES:Atelier
ATTACH;FMTTYPE=image/jpeg:https://le-ka-oneagain.org/wp-content/uploads/2024/10/beatmaking.jpg
ORGANIZER;CN="One Again":MAILTO:direction@le-ka-oneagain.org
END:VEVENT
BEGIN:VEVENT
DTSTART;TZID=Europe/Paris:20241102T180000
DTEND;TZID=Europe/Paris:20241102T235900
DTSTAMP:20260423T044557
CREATED:20241026T150754Z
LAST-MODIFIED:20241031T150603Z
UID:643-1730570400-1730591940@le-ka-oneagain.org
SUMMARY:SCENE OUVERTE - DECOUVERTES
DESCRIPTION:SCÈNE OUVERTE / DÉCOUVERTES\nLes scènes ouvertes sont des moments exceptionnels où se retrouvent bon nombre d’artistes locaux et régionaux de tous horizons\, amateurs ou professionnels et de tous âges. Le KA met à disposition sono\, micros et batterie. La règle est simple : jouer d’un instrument\, tous les styles et les niveaux sont acceptés\, pas de rivalité\, partage et amitiés musicales aux rendez-vous. Les uns\, plus expérimentés soutiennent les autres\, c’est ainsi qu’on avance. Depuis\, de nouveaux talents ont vu le jour. L’entrée est libre. \nLa soirée comporte plusieurs parties : \n\n18h à 19h : Ecole de musique intercommunal Pays de Forcalquier Montagne de Lure.\n19h : début de la scène ouverte/découvertes.  Un tableau d’inscription ou se succèdent toutes les 20 minutes des groupes découvertes et des bœufs.\n0h : Clôture\n\nLe BŒUF Comment ça marche ? Dans la boite correspondant à son instrument\, on met son nom et on attend d’être tiré au sort\, quand le line up est en place\, on pioche une suite d’accord (facile) et enfin on choisi un tempo ou un style. 3\, 4\, c’est parti pour le 1er morceau\, la suite c’est eux qui l’invente !\nToutes les 20 min\, on tire au sort de nouveaux musiciens et le plateau change\, simple non ? Plus on est de fous\, plus ça joue !!! On peu faire aussi des compos perso\, des reprises\, des plagias\, et même de l’impro. \nLes DECOUVERTES. C’est l’occasion pour ces nouveaux talents d’expérimenter leurs créations et de les faire découvrir au public.
URL:https://le-ka-oneagain.org/concert/scene-ouverte-decouvertes/
LOCATION:Le KA\, 148 Avenue des Chalus\, Forcalquier\, 04300\, France
CATEGORIES:Scène Ouverte
ATTACH;FMTTYPE=image/jpeg:https://le-ka-oneagain.org/wp-content/uploads/2024/10/scene_ouverte.jpg
ORGANIZER;CN="One Again":MAILTO:direction@le-ka-oneagain.org
END:VEVENT
END:VCALENDAR