BEGIN:VCALENDAR
VERSION:2.0
PRODID:-//LE KA - CONCERTS - SPECTACLES - ECPv6.15.20//NONSGML v1.0//EN
CALSCALE:GREGORIAN
METHOD:PUBLISH
X-WR-CALNAME:LE KA - CONCERTS - SPECTACLES
X-ORIGINAL-URL:https://le-ka-oneagain.org
X-WR-CALDESC:Évènements pour LE KA - CONCERTS - SPECTACLES
REFRESH-INTERVAL;VALUE=DURATION:PT1H
X-Robots-Tag:noindex
X-PUBLISHED-TTL:PT1H
BEGIN:VTIMEZONE
TZID:Europe/Paris
BEGIN:DAYLIGHT
TZOFFSETFROM:+0100
TZOFFSETTO:+0200
TZNAME:CEST
DTSTART:20230326T010000
END:DAYLIGHT
BEGIN:STANDARD
TZOFFSETFROM:+0200
TZOFFSETTO:+0100
TZNAME:CET
DTSTART:20231029T010000
END:STANDARD
BEGIN:DAYLIGHT
TZOFFSETFROM:+0100
TZOFFSETTO:+0200
TZNAME:CEST
DTSTART:20240331T010000
END:DAYLIGHT
BEGIN:STANDARD
TZOFFSETFROM:+0200
TZOFFSETTO:+0100
TZNAME:CET
DTSTART:20241027T010000
END:STANDARD
BEGIN:DAYLIGHT
TZOFFSETFROM:+0100
TZOFFSETTO:+0200
TZNAME:CEST
DTSTART:20250330T010000
END:DAYLIGHT
BEGIN:STANDARD
TZOFFSETFROM:+0200
TZOFFSETTO:+0100
TZNAME:CET
DTSTART:20251026T010000
END:STANDARD
END:VTIMEZONE
BEGIN:VEVENT
DTSTART;TZID=Europe/Paris:20241108T200000
DTEND;TZID=Europe/Paris:20241108T200000
DTSTAMP:20260423T044530
CREATED:20241026T155508Z
LAST-MODIFIED:20241030T154002Z
UID:646-1731096000-1731096000@le-ka-oneagain.org
SUMMARY:OAI REGGAE PARTY + MAZE
DESCRIPTION:Une tournée régionale sous le signe du reggae et un casting exceptionnel ! Les tournées Class’EuRock reviennent comme les saisons\, la recette est maintenant connue et aguerrie\, les lauréats de l’année du tremplin Class’EuRock ouvrent les concerts de la tournée du même nom pour compléter leur tour d’horizon occasionné par cette année chargée en émotions au local de répétition\, en studio\, sur scène\, à l’étranger en tournée. \nAprès Hakim & Mouss\, Zoufris Maracas\, Hippocampe Fou\, Les Ramoneurs de Menhirs\, Raspigaous\, Kanka\, Soom T\, Electro Deluxe\, Guillaume Meurice\, Biga*Ranx\, Nina Attal\, Highlit Tribe ou encore La Petite Fumée…c’est au tour du nouveau projet de ces 4 pointures reggae de la région\, le Oaï Reggae Party\, de servir de tremplin aux lauréats du tremplin ! Un projet particulier pour l’association Aix’Qui? puisque ses protagonistes (Gari Greu\, Lionel Achenza\, Toko Blaze et Rastyron) ont tous partagé la route de l’association depuis plus de 30 années… Nous avons décidé en accord avec nos partenaires It’s Ok et Studio K entre autres\, de partir à l’assaut de Marseille & Aix (13)\, Forcalquier (04)\, Château Neuf de Gadagne (84) et Veynes (05). \nDe quoi ramener le soleil en compagnies de légendes locales du reggae et le tremplin Class’Eu- Rock sera bien sûr de retour pour son édition 2025 très prochainement… ! \nOAI REGGAE PARTY\n le Afro Cuban All Star du reggae marseillais. \nLe OAI STAR sort en 2023 le ZULU OSCAR BRAVO INDUB réalisé par l’homme que l’on nomme Denis Rastyron Théry. Gari Greù du Massilia Ssound System et pilier du Oaï Star imagine inviter quelques MC de la scène marseillaise. Côté mic : Toko Blaze\, qui tient les scènes du sud depuis plus de 30 ans et qui vient de sortir son dreadlocks\, Léo Raspigaous front man de Raspi depuis quelques décennies & Gari Gréu du Massilia. Enfin\, il fallait des pointures pour encadrer le tout et c’est l’homme que l’on appelle Blu qui tient les guitare de Massilia\, Moussu T ou Oai Star doublé par Rastyron vu avec IAM\, Jo Corbeau\, Raspigaous\, Pablo Moses et bien d’autres qui tiendront le rôle de hacking band\, leur mission : balancer le son et de la plus belle des manière. T’en veux des tubes à la sauce soleil ? \nLien Billeterie \n \nOrganisateur : Association Aix’Qui  \n \nLien Billeterie  \n____________________________________ \nMAZE\nMaze est un un groupe de pop rock originaire du 04. Ils alternent entre compositions et reprises en associant le groove du funk avec l’énergie du rock ou du métal.  \nFervents participants aux scènes ouvertes du K’fé Quoi et présentés pour les ClassEurock dont ils sont Lauréats du tremplin 2024. \n Ils ont joué sur la grande scène du Cours Mirabeau à Aix-en-Provence pour le Grand Final Class’Eurock et ils ont participé à divers festivals dont le SMOB à St Michel L’observatoire ou les Artsgricoles à Guillestre.
URL:https://le-ka-oneagain.org/concert/oai-reggae-party-maze/
LOCATION:Le KA\, 148 Avenue des Chalus\, Forcalquier\, 04300\, France
CATEGORIES:Concert
ATTACH;FMTTYPE=image/jpeg:https://le-ka-oneagain.org/wp-content/uploads/2024/10/OAIREGGAE.jpg
END:VEVENT
END:VCALENDAR