BEGIN:VCALENDAR
VERSION:2.0
PRODID:-//LE KA - CONCERTS - SPECTACLES - ECPv6.15.20//NONSGML v1.0//EN
CALSCALE:GREGORIAN
METHOD:PUBLISH
X-ORIGINAL-URL:https://le-ka-oneagain.org
X-WR-CALDESC:Évènements pour LE KA - CONCERTS - SPECTACLES
REFRESH-INTERVAL;VALUE=DURATION:PT1H
X-Robots-Tag:noindex
X-PUBLISHED-TTL:PT1H
BEGIN:VTIMEZONE
TZID:Europe/Paris
BEGIN:DAYLIGHT
TZOFFSETFROM:+0100
TZOFFSETTO:+0200
TZNAME:CEST
DTSTART:20240331T010000
END:DAYLIGHT
BEGIN:STANDARD
TZOFFSETFROM:+0200
TZOFFSETTO:+0100
TZNAME:CET
DTSTART:20241027T010000
END:STANDARD
BEGIN:DAYLIGHT
TZOFFSETFROM:+0100
TZOFFSETTO:+0200
TZNAME:CEST
DTSTART:20250330T010000
END:DAYLIGHT
BEGIN:STANDARD
TZOFFSETFROM:+0200
TZOFFSETTO:+0100
TZNAME:CET
DTSTART:20251026T010000
END:STANDARD
BEGIN:DAYLIGHT
TZOFFSETFROM:+0100
TZOFFSETTO:+0200
TZNAME:CEST
DTSTART:20260329T010000
END:DAYLIGHT
BEGIN:STANDARD
TZOFFSETFROM:+0200
TZOFFSETTO:+0100
TZNAME:CET
DTSTART:20261025T010000
END:STANDARD
END:VTIMEZONE
BEGIN:VEVENT
DTSTART;TZID=Europe/Paris:20250125T200000
DTEND;TZID=Europe/Paris:20250125T200000
DTSTAMP:20260423T013805
CREATED:20241231T124441Z
LAST-MODIFIED:20250227T214140Z
UID:833-1737835200-1737835200@le-ka-oneagain.org
SUMMARY:SHAOLIN TEMPLE DEFENDERS
DESCRIPTION:SHAOLIN TEMPLE DEFENDERS\nGroupe de scène par excellence\, les Shaolin Temple Defenders brûlent les planches à chaque passage depuis plus de quinze ans. \n \nAprès plusieurs tournées à travers le monde (France\, Royaume-Uni\, Canada\, Italie\, Espagne\, Suisse etc.)\, 4 albums studio + un album live enregistré avec Martha High (Choriste de James Brown) les Shaolin sont devenus les représentants français de la nouvelle scène Soul internationale. \nEntre Funk torride et Soul soyeuse\, leur musique s’inspire fortement du Rhythm and Blues des 60′s et 70′s\, mais leurs influences Rock et Hip-Hop inscrivent définitivement le groupe dans l’ère du temps. \n 
URL:https://le-ka-oneagain.org/concert/shaolin-temple-defenders/
LOCATION:Le KA\, 148 Avenue des Chalus\, Forcalquier\, 04300\, France
CATEGORIES:Concert
ATTACH;FMTTYPE=image/png:https://le-ka-oneagain.org/wp-content/uploads/2024/12/SHAOLINTEMPLEDEFENDERS.png
ORGANIZER;CN="One Again":MAILTO:direction@le-ka-oneagain.org
END:VEVENT
END:VCALENDAR