BEGIN:VCALENDAR
VERSION:2.0
PRODID:-//LE KA - CONCERTS - SPECTACLES - ECPv6.15.20//NONSGML v1.0//EN
CALSCALE:GREGORIAN
METHOD:PUBLISH
X-WR-CALNAME:LE KA - CONCERTS - SPECTACLES
X-ORIGINAL-URL:https://le-ka-oneagain.org
X-WR-CALDESC:Évènements pour LE KA - CONCERTS - SPECTACLES
REFRESH-INTERVAL;VALUE=DURATION:PT1H
X-Robots-Tag:noindex
X-PUBLISHED-TTL:PT1H
BEGIN:VTIMEZONE
TZID:Europe/Paris
BEGIN:DAYLIGHT
TZOFFSETFROM:+0100
TZOFFSETTO:+0200
TZNAME:CEST
DTSTART:20240331T010000
END:DAYLIGHT
BEGIN:STANDARD
TZOFFSETFROM:+0200
TZOFFSETTO:+0100
TZNAME:CET
DTSTART:20241027T010000
END:STANDARD
BEGIN:DAYLIGHT
TZOFFSETFROM:+0100
TZOFFSETTO:+0200
TZNAME:CEST
DTSTART:20250330T010000
END:DAYLIGHT
BEGIN:STANDARD
TZOFFSETFROM:+0200
TZOFFSETTO:+0100
TZNAME:CET
DTSTART:20251026T010000
END:STANDARD
BEGIN:DAYLIGHT
TZOFFSETFROM:+0100
TZOFFSETTO:+0200
TZNAME:CEST
DTSTART:20260329T010000
END:DAYLIGHT
BEGIN:STANDARD
TZOFFSETFROM:+0200
TZOFFSETTO:+0100
TZNAME:CET
DTSTART:20261025T010000
END:STANDARD
END:VTIMEZONE
BEGIN:VEVENT
DTSTART;TZID=Europe/Paris:20250430T203000
DTEND;TZID=Europe/Paris:20250430T203000
DTSTAMP:20260422T194816
CREATED:20250404T151609Z
LAST-MODIFIED:20250611T121053Z
UID:1033-1746045000-1746045000@le-ka-oneagain.org
SUMMARY:LA MARMITE + BALLA BANGOURA
DESCRIPTION:BALLA BANGOURA\nBalla vous embarque à mi-chemin entre la Casamance (sud Sénégal) et les Alpes du Sud. Quatre musiciens\, portés par la Basse\, la Guitare et les Percussions animent les corps et les coeurs\, le temps d’un concert. \nLes chants et la Kora racontent l’Amour et la Nostalgie des nôtres\, proches ou éloignés. \nLes paroles en wolof sonnent comme une ode à la joie dans les tumultes de la vie.\nL’énergie déployée sur scène contamine la salle\, et emmène le public vers une danse exaltée. \nUn show Afro-electro-groove qui mets le feu partout ou il passe \n \n\nLA MARMITE\nLa Marmite est un groupe bouillonnant de talent\, originaire des Alpes-de-Haute-Provence (04) et implanté dans les Bouches-du-Rhône (13). Depuis 2022\, ils sillonnent la région PACA\, apportant un vent de fraîcheur au Rap avec un style unique et affirmé. \nLa recette de la Marmite ? Une énergie folle et contagieuse à laquelle chaque membre apporte une saveur unique. \nAu micro on retrouve les 7 rappeurs Arizki\, Costa\, Duarte\, Jook\, LI\, MC Gareth & Sysy. Mano\, l’ingé son de la bande\, est aux manettes\, de la composition jusqu’au live\, en passant par l’enregistrement et le mix. \nWithtom\, le photographe et vidéaste du groupe\, fait pleinement partie de l’équipe. Il réalise les visuels et façonne l’image globale du groupe. \nIndépendants et sans limites\, La Marmite n’hésite pas à proposer des sonorités originales et innovantes en mélangeant le Rap à la House ou à la Tekno\, avec des textes authentiques qui représentent leur campagne et leurs montagnes. \nhttps://www.instagram.com/lamarmite04/ \nhttps://www.facebook.com/lamarmite04/ \nhttps://www.youtube.com/@lamarmite04 \n https://www.tiktok.com/@lamarmite04?_t=8k7plMPEBM0&_r=1 \n https://fanlink.tv/lamarmite (lien qui dirige vers toutes les plateformes d’écoutes pour écouter les projets La Marmite)
URL:https://le-ka-oneagain.org/concert/la-marmite-balla-bangoura/
LOCATION:Le KA\, 148 Avenue des Chalus\, Forcalquier\, 04300\, France
CATEGORIES:Concert
ATTACH;FMTTYPE=image/jpeg:https://le-ka-oneagain.org/wp-content/uploads/2025/04/BallaBangoura-LaMarmite.jpg
END:VEVENT
END:VCALENDAR