BEGIN:VCALENDAR
VERSION:2.0
PRODID:-//LE KA - CONCERTS - SPECTACLES - ECPv6.15.20//NONSGML v1.0//EN
CALSCALE:GREGORIAN
METHOD:PUBLISH
X-ORIGINAL-URL:https://le-ka-oneagain.org
X-WR-CALDESC:Évènements pour LE KA - CONCERTS - SPECTACLES
REFRESH-INTERVAL;VALUE=DURATION:PT1H
X-Robots-Tag:noindex
X-PUBLISHED-TTL:PT1H
BEGIN:VTIMEZONE
TZID:Europe/Paris
BEGIN:DAYLIGHT
TZOFFSETFROM:+0100
TZOFFSETTO:+0200
TZNAME:CEST
DTSTART:20240331T010000
END:DAYLIGHT
BEGIN:STANDARD
TZOFFSETFROM:+0200
TZOFFSETTO:+0100
TZNAME:CET
DTSTART:20241027T010000
END:STANDARD
BEGIN:DAYLIGHT
TZOFFSETFROM:+0100
TZOFFSETTO:+0200
TZNAME:CEST
DTSTART:20250330T010000
END:DAYLIGHT
BEGIN:STANDARD
TZOFFSETFROM:+0200
TZOFFSETTO:+0100
TZNAME:CET
DTSTART:20251026T010000
END:STANDARD
BEGIN:DAYLIGHT
TZOFFSETFROM:+0100
TZOFFSETTO:+0200
TZNAME:CEST
DTSTART:20260329T010000
END:DAYLIGHT
BEGIN:STANDARD
TZOFFSETFROM:+0200
TZOFFSETTO:+0100
TZNAME:CET
DTSTART:20261025T010000
END:STANDARD
END:VTIMEZONE
BEGIN:VEVENT
DTSTART;TZID=Europe/Paris:20250509T203000
DTEND;TZID=Europe/Paris:20250509T203000
DTSTAMP:20260422T195241
CREATED:20250428T133225Z
LAST-MODIFIED:20250611T121053Z
UID:1041-1746822600-1746822600@le-ka-oneagain.org
SUMMARY:ALLUMINÉ GUERRERO
DESCRIPTION:ALLUMINÉ GUERRERO\n \nNichée dans la Terre Mère\, la production d’Aluminé Guerrero\, s’inscrit dans une nouvelle ère de musiciens créant un son noble et sincère\, un son sensoriel\, dont les paroles éveillent notre imagination\, notre conscience\, nous font percevoir tous les êtres vivants de notre planète. \nAluminé Guerrero\, chanteuse\, multi-instrumentiste et compositrice argentine\, nous transporte dans une transe joyeuse et festive à travers la fusion de rythmes numériques\, d’accords de charango\, de guitare et de mélodies de pinkullo. Elle propose une réinterprétation du folklore latino-américain enrichie d’éléments électroniques et de hip-hop\, rendant un hommage passionné aux cultures autochtones. Sa performance est un voyage initiatique qui\, en plus d’être profondément musical\, nous plonge dans un univers sensoriel et émotionnel\, nous invitant à nous joindre à la danse. \nAvec une sensibilité innée\, Aluminé transmet une nostalgie profondément enracinée dans ses origines\, nous exhortant à continuer d’avancer\, à entreprendre un voyage par amour du chemin\, créant un néo-folklore de lettres d’amour au territoire accompagné de sons contemporains et futuristes.
URL:https://le-ka-oneagain.org/concert/allumine-guerrero/
LOCATION:Le KA\, 148 Avenue des Chalus\, Forcalquier\, 04300\, France
CATEGORIES:Concert
ATTACH;FMTTYPE=image/jpeg:https://le-ka-oneagain.org/wp-content/uploads/2025/04/alumine_guerrer_carre.jpg
ORGANIZER;CN="One Again":MAILTO:direction@le-ka-oneagain.org
END:VEVENT
END:VCALENDAR