BEGIN:VCALENDAR
VERSION:2.0
PRODID:-//LE KA - CONCERTS - SPECTACLES - ECPv6.15.20//NONSGML v1.0//EN
CALSCALE:GREGORIAN
METHOD:PUBLISH
X-ORIGINAL-URL:https://le-ka-oneagain.org
X-WR-CALDESC:Évènements pour LE KA - CONCERTS - SPECTACLES
REFRESH-INTERVAL;VALUE=DURATION:PT1H
X-Robots-Tag:noindex
X-PUBLISHED-TTL:PT1H
BEGIN:VTIMEZONE
TZID:Europe/Paris
BEGIN:DAYLIGHT
TZOFFSETFROM:+0100
TZOFFSETTO:+0200
TZNAME:CEST
DTSTART:20240331T010000
END:DAYLIGHT
BEGIN:STANDARD
TZOFFSETFROM:+0200
TZOFFSETTO:+0100
TZNAME:CET
DTSTART:20241027T010000
END:STANDARD
BEGIN:DAYLIGHT
TZOFFSETFROM:+0100
TZOFFSETTO:+0200
TZNAME:CEST
DTSTART:20250330T010000
END:DAYLIGHT
BEGIN:STANDARD
TZOFFSETFROM:+0200
TZOFFSETTO:+0100
TZNAME:CET
DTSTART:20251026T010000
END:STANDARD
BEGIN:DAYLIGHT
TZOFFSETFROM:+0100
TZOFFSETTO:+0200
TZNAME:CEST
DTSTART:20260329T010000
END:DAYLIGHT
BEGIN:STANDARD
TZOFFSETFROM:+0200
TZOFFSETTO:+0100
TZNAME:CET
DTSTART:20261025T010000
END:STANDARD
END:VTIMEZONE
BEGIN:VEVENT
DTSTART;TZID=Europe/Paris:20251102T200000
DTEND;TZID=Europe/Paris:20251102T200000
DTSTAMP:20260420T201122
CREATED:20250912T125717Z
LAST-MODIFIED:20251104T181846Z
UID:1343-1762113600-1762113600@le-ka-oneagain.org
SUMMARY:SOOM T + MALI + CHASSEUR TIE
DESCRIPTION:Dans le cadre du tremplin Class’EuRock réservé aux jeunes musiciens et musiciennes de notre région PACA la fin d’année est consacrée aux tournées Class’EuRock\, moment où les groupes lauréats peuvent parfaire leur expérience de la scène sous l’angle mini tournée. \nCe soir\, on reçoit Soom T\, Mali et Myuktoria (Lauréats Class’Eurock 2025)\n\nCette date est co-organisée par les associations Aix’Qui? et One Again! \nOuverture 20h – Concert 21H \n \nSOOM T\nOriginaire de Glasgow\, Soom T parcourt le monde depuis plus de 20 ans avec son attitude excentrique\, son style inimitable et un flow complètement dément !\nArtiste engagée et figure incontournable du reggae underground\, Soom T revient en 2025 avec une tournée sound system survoltée. Une performance explosive à ne pas manquer \n \nMALI\nMali\, artiste émergente de la scène hip-hop/rap PACA\, vient avec une approche bien à elle du rap en mettant en paradoxe des instrus qui tabassent\, et des harmonies vocales;tout en faisant un bon équilibre entre rap et chant. \nElle compose et écrit ses propres morceaux\, à écouter dans son premier EP « C’est qu’une étape » sorti récemment sur toutes les plateformes. \n \nCHASSEUR TIE    (lauréat ClassEurock)\n \n 
URL:https://le-ka-oneagain.org/concert/soom-t-mali-chasseur-tie/
LOCATION:Le KA\, 148 Avenue des Chalus\, Forcalquier\, 04300\, France
CATEGORIES:Concert
ATTACH;FMTTYPE=image/jpeg:https://le-ka-oneagain.org/wp-content/uploads/2025/09/affichesoomTc.jpg
END:VEVENT
END:VCALENDAR