BEGIN:VCALENDAR
VERSION:2.0
PRODID:-//LE KA - CONCERTS - SPECTACLES - ECPv6.15.20//NONSGML v1.0//EN
CALSCALE:GREGORIAN
METHOD:PUBLISH
X-WR-CALNAME:LE KA - CONCERTS - SPECTACLES
X-ORIGINAL-URL:https://le-ka-oneagain.org
X-WR-CALDESC:Évènements pour LE KA - CONCERTS - SPECTACLES
REFRESH-INTERVAL;VALUE=DURATION:PT1H
X-Robots-Tag:noindex
X-PUBLISHED-TTL:PT1H
BEGIN:VTIMEZONE
TZID:Europe/Paris
BEGIN:DAYLIGHT
TZOFFSETFROM:+0100
TZOFFSETTO:+0200
TZNAME:CEST
DTSTART:20240331T010000
END:DAYLIGHT
BEGIN:STANDARD
TZOFFSETFROM:+0200
TZOFFSETTO:+0100
TZNAME:CET
DTSTART:20241027T010000
END:STANDARD
BEGIN:DAYLIGHT
TZOFFSETFROM:+0100
TZOFFSETTO:+0200
TZNAME:CEST
DTSTART:20250330T010000
END:DAYLIGHT
BEGIN:STANDARD
TZOFFSETFROM:+0200
TZOFFSETTO:+0100
TZNAME:CET
DTSTART:20251026T010000
END:STANDARD
BEGIN:DAYLIGHT
TZOFFSETFROM:+0100
TZOFFSETTO:+0200
TZNAME:CEST
DTSTART:20260329T010000
END:DAYLIGHT
BEGIN:STANDARD
TZOFFSETFROM:+0200
TZOFFSETTO:+0100
TZNAME:CET
DTSTART:20261025T010000
END:STANDARD
END:VTIMEZONE
BEGIN:VEVENT
DTSTART;TZID=Europe/Paris:20250729T190000
DTEND;TZID=Europe/Paris:20250729T190000
DTSTAMP:20260420T233818
CREATED:20250617T161614Z
LAST-MODIFIED:20250619T184030Z
UID:1109-1753815600-1753815600@le-ka-oneagain.org
SUMMARY:GRO
DESCRIPTION:Participation à partir de 5€ – Gratuit pour les moins de 16 ans  \nGRO\nGRO – Chanson française enivrante (et assoiffée) \nGRO\, c’est un truc à trois\, acoustique et qui fait mijoter de la chanson française à sa sauce\, de la Tordue à Bernard Dimey\, des Têtes raides à Dalida\, bah ouais. Un truc qui swingue\, qui tape\, qui valse\, qui danse\, qui vit ! Un truc qui sent le vin\, la nostalgie du comptoir\, du bistrot\, mais pas que… Un truc qui parle des gens\, de révolution\, beaucoup d’ivresse\, d’amour\, mais aussi de religion\, de politique et de voisins vigilants. Un truc qui rit\, qui trinque\, qui pleure ou qui braille parfois. Un truc simple\, bio et local\, avec de l’accordéon\, de la guitare\, de la contrebasse et les voix de trois générations de bonshommes qui aiment partager leur table et ce qu’ils ont glané pour mieux vous régaler. \nAvec Riton Palanque (accordéon/chant)\, Guillaume Labatut (guitare/chant)\, Olivier Vauquelin (contrebasse/chant) et puis toi et tes potes ❤️ \n 
URL:https://le-ka-oneagain.org/concert/gro/
LOCATION:Le KA\, 148 Avenue des Chalus\, Forcalquier\, 04300\, France
CATEGORIES:Apero Concert
ATTACH;FMTTYPE=image/jpeg:https://le-ka-oneagain.org/wp-content/uploads/2025/06/gro_c.jpg
ORGANIZER;CN="One Again":MAILTO:direction@le-ka-oneagain.org
END:VEVENT
END:VCALENDAR