BEGIN:VCALENDAR
VERSION:2.0
PRODID:-//LE KA - CONCERTS - SPECTACLES - ECPv6.15.20//NONSGML v1.0//EN
CALSCALE:GREGORIAN
METHOD:PUBLISH
X-ORIGINAL-URL:https://le-ka-oneagain.org
X-WR-CALDESC:Évènements pour LE KA - CONCERTS - SPECTACLES
REFRESH-INTERVAL;VALUE=DURATION:PT1H
X-Robots-Tag:noindex
X-PUBLISHED-TTL:PT1H
BEGIN:VTIMEZONE
TZID:Europe/Paris
BEGIN:DAYLIGHT
TZOFFSETFROM:+0100
TZOFFSETTO:+0200
TZNAME:CEST
DTSTART:20240331T010000
END:DAYLIGHT
BEGIN:STANDARD
TZOFFSETFROM:+0200
TZOFFSETTO:+0100
TZNAME:CET
DTSTART:20241027T010000
END:STANDARD
BEGIN:DAYLIGHT
TZOFFSETFROM:+0100
TZOFFSETTO:+0200
TZNAME:CEST
DTSTART:20250330T010000
END:DAYLIGHT
BEGIN:STANDARD
TZOFFSETFROM:+0200
TZOFFSETTO:+0100
TZNAME:CET
DTSTART:20251026T010000
END:STANDARD
BEGIN:DAYLIGHT
TZOFFSETFROM:+0100
TZOFFSETTO:+0200
TZNAME:CEST
DTSTART:20260329T010000
END:DAYLIGHT
BEGIN:STANDARD
TZOFFSETFROM:+0200
TZOFFSETTO:+0100
TZNAME:CET
DTSTART:20261025T010000
END:STANDARD
END:VTIMEZONE
BEGIN:VEVENT
DTSTART;TZID=Europe/Paris:20250731T190000
DTEND;TZID=Europe/Paris:20250731T190000
DTSTAMP:20260420T234211
CREATED:20250617T162618Z
LAST-MODIFIED:20250619T184056Z
UID:1113-1753988400-1753988400@le-ka-oneagain.org
SUMMARY:CAMiNOS
DESCRIPTION:Participation à partir de 5€ – Gratuit pour les moins de 16 ans  \nCAMiNOS\nCAMiNOS\, ces chemins que nous suivons\, que nous croisons\, que nous créons… \n​Cette idée de parcours\,de cheminement\, tant dans la vie que dans la musique\, est au centre du projet . \nSur une base de compositions originales de Germain Chaperon\, CAMiNOS met en lumière les univers que chaque musiciens a glané sur son parcours\, pour ce rendez vous musical sur le thème des chemins de vies\, des rencontres qu’on peut y faire\, et de la manière dont nous nous construisons avec. \nCes créations puisent leurs racines dans de nombreuses musiques populaires : Les Indes\, l’Europe de l’Est\, l’Afrique du Nord et bien sûr le Flamenco espagnol et ses résonances sud américaines\, avec une écriture teintée de jazz moderne et de musiques actuelles dans les formes rythmiques et les style de jeux. \nAinsi se crée naturellement un pont entre les cultures\, où l’on s’aperçoit qu’a travers tous ces chemins de vie\, ces étapes\, ces accidents\, qui font de nous ce que nous somme a un moment donné\, une humanité profonde nous rassemble. \nC’est cette rencontre et cette connexion que le projet met en valeur\, pour un voyage musical au delà des frontières\, qu’elle soit physique ou culturelles.CAMiNOS offre à l’auditeur un spectacle où la richesse musicale proposée est au service d’un contact et d’un échange avec le public\, faisant de chaque concert un moment unique\, sur le chemin\, toujours… \n \n 
URL:https://le-ka-oneagain.org/concert/caminos/
LOCATION:Le KA\, 148 Avenue des Chalus\, Forcalquier\, 04300\, France
CATEGORIES:Apero Concert
ATTACH;FMTTYPE=image/jpeg:https://le-ka-oneagain.org/wp-content/uploads/2025/06/camino_c.jpg
ORGANIZER;CN="One Again":MAILTO:direction@le-ka-oneagain.org
END:VEVENT
END:VCALENDAR