BEGIN:VCALENDAR
VERSION:2.0
PRODID:-//LE KA - CONCERTS - SPECTACLES - ECPv6.15.20//NONSGML v1.0//EN
CALSCALE:GREGORIAN
METHOD:PUBLISH
X-ORIGINAL-URL:https://le-ka-oneagain.org
X-WR-CALDESC:Évènements pour LE KA - CONCERTS - SPECTACLES
REFRESH-INTERVAL;VALUE=DURATION:PT1H
X-Robots-Tag:noindex
X-PUBLISHED-TTL:PT1H
BEGIN:VTIMEZONE
TZID:Europe/Paris
BEGIN:DAYLIGHT
TZOFFSETFROM:+0100
TZOFFSETTO:+0200
TZNAME:CEST
DTSTART:20240331T010000
END:DAYLIGHT
BEGIN:STANDARD
TZOFFSETFROM:+0200
TZOFFSETTO:+0100
TZNAME:CET
DTSTART:20241027T010000
END:STANDARD
BEGIN:DAYLIGHT
TZOFFSETFROM:+0100
TZOFFSETTO:+0200
TZNAME:CEST
DTSTART:20250330T010000
END:DAYLIGHT
BEGIN:STANDARD
TZOFFSETFROM:+0200
TZOFFSETTO:+0100
TZNAME:CET
DTSTART:20251026T010000
END:STANDARD
BEGIN:DAYLIGHT
TZOFFSETFROM:+0100
TZOFFSETTO:+0200
TZNAME:CEST
DTSTART:20260329T010000
END:DAYLIGHT
BEGIN:STANDARD
TZOFFSETFROM:+0200
TZOFFSETTO:+0100
TZNAME:CET
DTSTART:20261025T010000
END:STANDARD
END:VTIMEZONE
BEGIN:VEVENT
DTSTART;TZID=Europe/Paris:20250805T190000
DTEND;TZID=Europe/Paris:20250805T190000
DTSTAMP:20260420T234212
CREATED:20250617T165944Z
LAST-MODIFIED:20250619T182229Z
UID:1124-1754420400-1754420400@le-ka-oneagain.org
SUMMARY:BOOGIE LIONNE
DESCRIPTION:Participation à partir de 5€ – Gratuit pour les moins de 16 ans  \nBOOGIE LIONNE\nDe la Nouvelle Orléans à la Guadeloupe\, c’est la musique caraïbe qui porte ce quartet. \nAncré dans le jazz du bayou\, les biguines\, les standards revisités en créole et quelques compositions locales\, avec Duke Ellington et Thelonious Monk comme parrains imaginaires\, le Boogie Lionne Trio fonctionne à l’instinct. \nLascif comme une sieste sous l’orage et piquant comme le jerk chicken\, c’est un concert sensuel et pimenté qui vous attend !
URL:https://le-ka-oneagain.org/concert/boogie-lionne/
LOCATION:Le KA\, 148 Avenue des Chalus\, Forcalquier\, 04300\, France
CATEGORIES:Apero Concert
ATTACH;FMTTYPE=image/jpeg:https://le-ka-oneagain.org/wp-content/uploads/2025/06/boogielionne.jpg
ORGANIZER;CN="One Again":MAILTO:direction@le-ka-oneagain.org
END:VEVENT
END:VCALENDAR