BEGIN:VCALENDAR
VERSION:2.0
PRODID:-//LE KA - CONCERTS - SPECTACLES - ECPv6.15.20//NONSGML v1.0//EN
CALSCALE:GREGORIAN
METHOD:PUBLISH
X-WR-CALNAME:LE KA - CONCERTS - SPECTACLES
X-ORIGINAL-URL:https://le-ka-oneagain.org
X-WR-CALDESC:Évènements pour LE KA - CONCERTS - SPECTACLES
REFRESH-INTERVAL;VALUE=DURATION:PT1H
X-Robots-Tag:noindex
X-PUBLISHED-TTL:PT1H
BEGIN:VTIMEZONE
TZID:Europe/Paris
BEGIN:DAYLIGHT
TZOFFSETFROM:+0100
TZOFFSETTO:+0200
TZNAME:CEST
DTSTART:20250330T010000
END:DAYLIGHT
BEGIN:STANDARD
TZOFFSETFROM:+0200
TZOFFSETTO:+0100
TZNAME:CET
DTSTART:20251026T010000
END:STANDARD
BEGIN:DAYLIGHT
TZOFFSETFROM:+0100
TZOFFSETTO:+0200
TZNAME:CEST
DTSTART:20260329T010000
END:DAYLIGHT
BEGIN:STANDARD
TZOFFSETFROM:+0200
TZOFFSETTO:+0100
TZNAME:CET
DTSTART:20261025T010000
END:STANDARD
BEGIN:DAYLIGHT
TZOFFSETFROM:+0100
TZOFFSETTO:+0200
TZNAME:CEST
DTSTART:20270328T010000
END:DAYLIGHT
BEGIN:STANDARD
TZOFFSETFROM:+0200
TZOFFSETTO:+0100
TZNAME:CET
DTSTART:20271031T010000
END:STANDARD
END:VTIMEZONE
BEGIN:VEVENT
DTSTART;TZID=Europe/Paris:20260424T193000
DTEND;TZID=Europe/Paris:20260424T193000
DTSTAMP:20260423T231524
CREATED:20260228T144000Z
LAST-MODIFIED:20260228T150402Z
UID:1764-1777059000-1777059000@le-ka-oneagain.org
SUMMARY:PETIT TONNERRE + OUAIS
DESCRIPTION:PETIT TONNERRE\n \n  \nEntre musiques du monde et soubresauts électriques\, Petit Tonnerre chante haut et fort une musique traditionnelle moderne\, festive et dansante. \nGrooves méditerranéens\, transes lancinantes et envolées lyriques\, de quoi mettre du soleil sous la pluie… \n  \n  \n \n  \nOUAIS\n \n  \nOuais\, c’est votre nom ?\n– Ouais. \n– Et vous faites un bal trad’ electro?\n– Ouais \n \n 
URL:https://le-ka-oneagain.org/concert/petit-tonnerre-ouais/
LOCATION:Le KA\, 148 Avenue des Chalus\, Forcalquier\, 04300\, France
CATEGORIES:Concert
ATTACH;FMTTYPE=image/jpeg:https://le-ka-oneagain.org/wp-content/uploads/2026/02/carre_Petit-Tonnerre.jpg
ORGANIZER;CN="One Again":MAILTO:direction@le-ka-oneagain.org
END:VEVENT
BEGIN:VEVENT
DTSTART;TZID=Europe/Paris:20260425T193000
DTEND;TZID=Europe/Paris:20260425T193000
DTSTAMP:20260423T231524
CREATED:20260228T145124Z
LAST-MODIFIED:20260228T150402Z
UID:1769-1777145400-1777145400@le-ka-oneagain.org
SUMMARY:FLOX + MATTAY
DESCRIPTION:FLOX\nDepuis plus de 20 ans\, Flox façonne un son unique\, fusion vibrante entre reggae roots\, électro\, dub et nu-soul. Franco-britannique à l’identité musicale métissée\, FLOX s’est imposé comme une référence incontournable de la scène alternative hexagonale. Avec sept albums studio à son actif et de nombreuses tournées à travers I’Europe\, il a su créer un univers personnel\, où la chaleur du reggae rencontre la précision des machines. \n \n \n\nMATTAY\nOriginaire du sud de la France\, Mattay est\, dès son plus jeune age\, passionné par la musique et plus particulièrement par l’univers du reggae.\nPrenant goût à la composition\, c’est dans son home studio qu’il compose et enregistre\, en 2016\, un premier album : « Take over ».\nTotalement auto-produit\, ce premier opus\, sur lequel Mattay invite son frère Ras K’lyman pour un duo Français/Anglais\, Roots/New roots.\nLe partage avec son public l’inspire; les compositions s’enchainent.\nMattay se donne une mission : rassembler autour de valeurs universelles.\nL’amour et le respect du monde qui l’entoure le pousse à porter ce flambeau et à le partager autour de lui.\nEn 2018\, il rencontre Clémént Thouard (Tamal) le producteur et beat maker parisien.\nC’est ensemble qu’ils donnent vie au nouvel album de Mattay : « My Roots ».\nAvec authenticité et sincérité\, il nous propose un reggae roots qui nous invite à voyager au plus profond de nos pensées et émotions.
URL:https://le-ka-oneagain.org/concert/flox-mattay/
LOCATION:Le KA\, 148 Avenue des Chalus\, Forcalquier\, 04300\, France
CATEGORIES:Concert
ATTACH;FMTTYPE=image/jpeg:https://le-ka-oneagain.org/wp-content/uploads/2026/02/carre_Flox.jpg
ORGANIZER;CN="One Again":MAILTO:direction@le-ka-oneagain.org
END:VEVENT
BEGIN:VEVENT
DTSTART;TZID=Europe/Paris:20260430T193000
DTEND;TZID=Europe/Paris:20260430T193000
DTSTAMP:20260423T231524
CREATED:20260228T145843Z
LAST-MODIFIED:20260228T150402Z
UID:1774-1777577400-1777577400@le-ka-oneagain.org
SUMMARY:PULSATILLA + AMAZONITA
DESCRIPTION:PULSATILLA\n \nMunis d’un instrumentarium varié (Accordéon\, Guitare\, Congas\, Cajon et autres percussions à main)\, c’est avec une bonne dose de joie\, d’humour et de simplicité que nous vous embarquerons dans notre univers éclectique : telles des abeilles butineuses\, nous prenons un malin plaisir à polliniser une tradition musicale avec les rythmes d’une autre\, métisser les cultures\, fusionner les sons du passés et les timbres de la modernité\, tout cela avec audace et fantaisie.\nDu gospel aux chants des balkans\, des caraïbes aux chansons françaises\, vous ne serez pas déçu du voyage ! \n \n  \nAMAZONITA\nAmazonita est dj et productrice musicale \, percussionniste\, performeuse\, médiatrice culturelle et artiviste féministe qui arrive tout droit d’Equateur pour vous embarquer dans ses rythmes afro/sud américains\, des Caraïbes aux côtes brésiliennes en passant par la nueva-cumbia colombienne et les sons électro andins actuels; Mais pas que ! suite à ses voyages en Afrique de l’Ouest elle enrichit encore ses propositions musicales ; du pur Global sound et des latin-beats en puissance ! \nEn 2019\, elle crée le projet OtraTierra école d’artivismes latino-américains avec lequel Amazonita voyage un peu partout en militant pour un monde plus juste depuis une perspective féministe et décoloniale.
URL:https://le-ka-oneagain.org/concert/pulsatilla-amazonita/
LOCATION:Le KA\, 148 Avenue des Chalus\, Forcalquier\, 04300\, France
CATEGORIES:Concert
ATTACH;FMTTYPE=image/jpeg:https://le-ka-oneagain.org/wp-content/uploads/2026/02/carre_PULSATILLA.jpg
ORGANIZER;CN="One Again":MAILTO:direction@le-ka-oneagain.org
END:VEVENT
END:VCALENDAR