BEGIN:VCALENDAR
VERSION:2.0
PRODID:-//LE KA - CONCERTS - SPECTACLES - ECPv6.15.20//NONSGML v1.0//EN
CALSCALE:GREGORIAN
METHOD:PUBLISH
X-WR-CALNAME:LE KA - CONCERTS - SPECTACLES
X-ORIGINAL-URL:https://le-ka-oneagain.org
X-WR-CALDESC:Évènements pour LE KA - CONCERTS - SPECTACLES
REFRESH-INTERVAL;VALUE=DURATION:PT1H
X-Robots-Tag:noindex
X-PUBLISHED-TTL:PT1H
BEGIN:VTIMEZONE
TZID:Europe/Paris
BEGIN:DAYLIGHT
TZOFFSETFROM:+0100
TZOFFSETTO:+0200
TZNAME:CEST
DTSTART:20230326T010000
END:DAYLIGHT
BEGIN:STANDARD
TZOFFSETFROM:+0200
TZOFFSETTO:+0100
TZNAME:CET
DTSTART:20231029T010000
END:STANDARD
BEGIN:DAYLIGHT
TZOFFSETFROM:+0100
TZOFFSETTO:+0200
TZNAME:CEST
DTSTART:20240331T010000
END:DAYLIGHT
BEGIN:STANDARD
TZOFFSETFROM:+0200
TZOFFSETTO:+0100
TZNAME:CET
DTSTART:20241027T010000
END:STANDARD
BEGIN:DAYLIGHT
TZOFFSETFROM:+0100
TZOFFSETTO:+0200
TZNAME:CEST
DTSTART:20250330T010000
END:DAYLIGHT
BEGIN:STANDARD
TZOFFSETFROM:+0200
TZOFFSETTO:+0100
TZNAME:CET
DTSTART:20251026T010000
END:STANDARD
END:VTIMEZONE
BEGIN:VEVENT
DTSTART;TZID=Europe/Paris:20241207T200000
DTEND;TZID=Europe/Paris:20241207T200000
DTSTAMP:20260423T013657
CREATED:20241026T170944Z
LAST-MODIFIED:20250227T214140Z
UID:675-1733601600-1733601600@le-ka-oneagain.org
SUMMARY:CHU CHI CHA + MINE JAJA
DESCRIPTION:CHU CHI CHA\nChu Chi Cha est un duo franco-chilien puissant qui mélange le son de la cumbia avec celui de la musique électro. \nLes rythmes envoutants de la musique latino colorés par les voix et les mélodies de l’accordéon et du violon viennent se glisser dans l’atmosphère explosive des boîtes à rythme électronique. \nRésultat de la cumbia électro acoustique à découvrir sans modération. \n \n  \nMINE JAJA\nDJ Mine Jaja voyage sans frontières musicales\, de l’électro swing au hip hop en passant par les Balkans et l’Afrique ou le Brésil.\nDu reggae\, dub\, afro\, zouk\, bass\, rock\, salsa\, funk\, swing\,… elle s’adapte au thème d’une soirée. Tel un caméléon\, elle peut changer les couleurs du tableau et jouer avec les contrastes.
URL:https://le-ka-oneagain.org/concert/chu-chi-cha-2/
LOCATION:Le KA\, 148 Avenue des Chalus\, Forcalquier\, 04300\, France
CATEGORIES:Concert
ATTACH;FMTTYPE=image/jpeg:https://le-ka-oneagain.org/wp-content/uploads/2024/10/chuchicha.jpg
ORGANIZER;CN="One Again":MAILTO:direction@le-ka-oneagain.org
END:VEVENT
BEGIN:VEVENT
DTSTART;TZID=Europe/Paris:20241213T200000
DTEND;TZID=Europe/Paris:20241213T200000
DTSTAMP:20260423T013657
CREATED:20241030T152015Z
LAST-MODIFIED:20250227T214140Z
UID:710-1734120000-1734120000@le-ka-oneagain.org
SUMMARY:BENZINE + BEFA
DESCRIPTION:BENZINE\n \nBenzine puise son inspiration dans la poésie bédouine d’Algérie qu’il décline en un synth-raï fissile qui sent les pots\nd’échappements des rues de Sidi Bel Abbes.\nFormé par Farid Belayat et Samir Mohellebi\, le duo déploie des sonorités brodés de synthé\, d’une boîte à rythme\, une basse\, une guitare et une bassine d’instruments ouest-algériens(samplés pour l’occasion) pour te plonger dans un rendu aussi frénétique que la conduite d’un taxi oranais à l’heure de pointe : tendu\, transe et dansant.\nLeur premier album « Nawri » (bourgeonne dans le texte) a éclos le 21 mars sur le label La Navette. \nFarid Belayat : chant\, basse\, machines\nSamir Mohellebi : chant\,guitare\,machines \n  \n \nBEFA ( Krewkoodil / OEJ )\nDj set \nStyle : Psy techno / techno / organic \nChanteur du groupe Oneyed jack au siècle dernier\, remixeur\, producteur de musique électronique avec le collectif Hip-hop Kronick Bass puis en solo depuis. \nEgalement DJ au sein du collectif Atomix sound system ( Mayotte ) pendant quelques années puis Krewkoodil Aujourd’hui. \nAprès avoir écumé beaucoup de style comme la drum’n’bass\, le dubstep ou encore la techno minimal Befa à aujourd’hui jeté son dévolu sur la techno à tendance psy ou organic. \n \n  \n  \n 
URL:https://le-ka-oneagain.org/concert/benzine/
LOCATION:Le KA\, 148 Avenue des Chalus\, Forcalquier\, 04300\, France
CATEGORIES:Concert
ATTACH;FMTTYPE=image/jpeg:https://le-ka-oneagain.org/wp-content/uploads/2024/10/benzine.jpg
ORGANIZER;CN="One Again":MAILTO:direction@le-ka-oneagain.org
END:VEVENT
BEGIN:VEVENT
DTSTART;TZID=Europe/Paris:20241215T163000
DTEND;TZID=Europe/Paris:20241215T180000
DTSTAMP:20260423T013657
CREATED:20241026T171116Z
LAST-MODIFIED:20250227T214140Z
UID:678-1734280200-1734285600@le-ka-oneagain.org
SUMMARY:LES DIMANCHES DU CONTE
DESCRIPTION:LA LARME DU DRAGON\nChristel Delpeyroux \nCe soir-là\, tout est paisible dans les maisons-arbres éclairées par les deux lunes rouges\, quand Sagor déchaîne sa puissance sur la Grande Forêt. Mais aux confins de la Forêt\, Ardana veille. Jusqu’où devra-t-elle aller pour vaincre son ancien mentor devenu fou de pouvoir et pour protéger sa famille ? Et que sont donc ces cristaux que ses enfants ramènent de leur expédition secrète et qui semblent tout droit sortis d’une légende ? \nAffrontements magiques\, métamorphoses\, émotion et rebondissements dramatiques\, nous embarquent dans un récit haletant raconté avec intensité et poésie\, auquel les musiques aux accents électro-rock offrent un écrin intemporel\, à la fois sensible et épique. \nSpectacle tout public à partir de 12 ans\nDurée 1h20\nSpectacle solo \nÉcriture et jeu : Christel DelpeyrouxMusiques : Grégory Allaert\nMise en scène : Sophie Pavillard\nScénographie : Clémentine Dercq \n \n  \n  \nLE POURQUOI / COMMENT : Les dimanches du conte de Forcalquier\, c’est l' »antenne internationale » d’une « tradition contemporaine » née à Montréal il y a vingt-cinq ans et colportée en Haute- Provence en 2022 à l’initiative de La Compagnie d’A\, Pichaïm et De Bouche à Oreilles. \nUn moment parfait pour finir le week-end quand il ne fait pas encore trop chaud.\nÀ partir de 16 h 30\, scène ouverte : qui veut\, dans la salle\, prend son courage à deux mains et monte sur les planches pour conter\, dire\, chanter quelque chose. Après une pause goûter-hydratation\, les pros entrent en lice pour une heure de spectacle. \nLes dimanches du conte c’est bieng. Venez ! \n  \n  \n 
URL:https://le-ka-oneagain.org/concert/les-dimanches-du-conte-12/
LOCATION:Le KA\, 148 Avenue des Chalus\, Forcalquier\, 04300\, France
CATEGORIES:Conte
ATTACH;FMTTYPE=image/jpeg:https://le-ka-oneagain.org/wp-content/uploads/2024/10/Les-Dimanches-du-Conte.jpg
ORGANIZER;CN="One Again":MAILTO:direction@le-ka-oneagain.org
END:VEVENT
BEGIN:VEVENT
DTSTART;TZID=Europe/Paris:20241220T200000
DTEND;TZID=Europe/Paris:20241220T200000
DTSTAMP:20260423T013657
CREATED:20241026T173040Z
LAST-MODIFIED:20250227T214140Z
UID:682-1734724800-1734724800@le-ka-oneagain.org
SUMMARY:GUERILLA POUBELLE + MAUVAISE PIOCHE
DESCRIPTION:GUERILLA POUBELLE\n \n20 ans de punk rock pessimiste et de DIY plein d’espoir portés par des prestations live explosives et des chansons pleines de slogans et de cynisme\, d’humour acide passé au vitriol noir. \nDes prises de consciences… des brulots révoltés qui bousculent tout et qui martèlent la tète jusqu’à devenir une nourriture nécessaire et quotidienne pour l’esprit.\nDes hits punk rock jetés devant le tabernacle de la médiocrité de l’époque… \nLe discours embrasse une radicalité encore plus vindicative : le verbe est cru et virulent\, il écharpe à tout-va néo-libéralisme\, mépris de classe\, consumérisme\, clichés de genre et autres boutures de cette société malade qui nous oppresse chaque jour un peu plus. \n \n  \nMAUVAISE PIOCHE\n\n\nPunk de chambre\, projet solo de Antho (bassiste de Guerilla Poubelle\, ex Intenable/Quitters/Nina’School…) qui compose et enregistre dans sa piaule avec les moyens du bord.\n\nA l’écoute des albums/EP\, on pourrait croire à un groupe au complet\, la version live se veut plus minimaliste avec boite à rythmes\, synthés\, et autres arrangements numériques!\n\n\n \n  \n 
URL:https://le-ka-oneagain.org/concert/guerilla-poubelle-crache/
LOCATION:Le KA\, 148 Avenue des Chalus\, Forcalquier\, 04300\, France
CATEGORIES:Concert
ATTACH;FMTTYPE=image/jpeg:https://le-ka-oneagain.org/wp-content/uploads/2024/10/guerillapoubelle_mauvaisepioche.jpg
ORGANIZER;CN="One Again":MAILTO:direction@le-ka-oneagain.org
END:VEVENT
END:VCALENDAR