BEGIN:VCALENDAR
VERSION:2.0
PRODID:-//LE KA - CONCERTS - SPECTACLES - ECPv6.15.20//NONSGML v1.0//EN
CALSCALE:GREGORIAN
METHOD:PUBLISH
X-WR-CALNAME:LE KA - CONCERTS - SPECTACLES
X-ORIGINAL-URL:https://le-ka-oneagain.org
X-WR-CALDESC:Évènements pour LE KA - CONCERTS - SPECTACLES
REFRESH-INTERVAL;VALUE=DURATION:PT1H
X-Robots-Tag:noindex
X-PUBLISHED-TTL:PT1H
BEGIN:VTIMEZONE
TZID:Europe/Paris
BEGIN:DAYLIGHT
TZOFFSETFROM:+0100
TZOFFSETTO:+0200
TZNAME:CEST
DTSTART:20240331T010000
END:DAYLIGHT
BEGIN:STANDARD
TZOFFSETFROM:+0200
TZOFFSETTO:+0100
TZNAME:CET
DTSTART:20241027T010000
END:STANDARD
BEGIN:DAYLIGHT
TZOFFSETFROM:+0100
TZOFFSETTO:+0200
TZNAME:CEST
DTSTART:20250330T010000
END:DAYLIGHT
BEGIN:STANDARD
TZOFFSETFROM:+0200
TZOFFSETTO:+0100
TZNAME:CET
DTSTART:20251026T010000
END:STANDARD
BEGIN:DAYLIGHT
TZOFFSETFROM:+0100
TZOFFSETTO:+0200
TZNAME:CEST
DTSTART:20260329T010000
END:DAYLIGHT
BEGIN:STANDARD
TZOFFSETFROM:+0200
TZOFFSETTO:+0100
TZNAME:CET
DTSTART:20261025T010000
END:STANDARD
END:VTIMEZONE
BEGIN:VEVENT
DTSTART;TZID=Europe/Paris:20250112T163000
DTEND;TZID=Europe/Paris:20250112T163000
DTSTAMP:20260423T002915
CREATED:20241127T131824Z
LAST-MODIFIED:20250227T214140Z
UID:798-1736699400-1736699400@le-ka-oneagain.org
SUMMARY:DIMANCHE DU CONTE
DESCRIPTION:« Marcelle » a des choses à partager… Des paroles fortes et symboliques. Des dires de femme\, tendres et audacieux… Des affirmations pleines d’humour et des questionnements emplis de bon sens. \nC’est une vieille dame\, de condition modeste\, qui nous parle. Et pourtant\, elle ose prendre sa place. Elle questionne : la liberté de ses sœurs… Son désir éteint et pourtant toujours vivant… Elle expérimente sa présence sur une scène de théâtre… Elle prend la place de la conteuse… Elle se frotte à la vie et joue sa mort avec délice. Marcelle se délie et ses contes ont une saveur nue. On sort du spectacle en ayant oublié l’artiste attendue et rencontré l’essence profonde de Florence Férin. \n \nLE POURQUOI / COMMENT : Les dimanches du conte de Forcalquier\, c’est l’”antenne internationale” d’une “tradition contemporaine” née à Montréal il y a vingt-cinq ans et colportée en Haute- Provence en 2022 à l’initiative de La Compagnie d’A\, Pichaïm et De Bouche à Oreilles. \nUn moment parfait pour finir le week-end quand il ne fait pas encore trop chaud.\nÀ partir de 16 h 30\, scène ouverte : qui veut\, dans la salle\, prend son courage à deux mains et monte sur les planches pour conter\, dire\, chanter quelque chose. Après une pause goûter-hydratation\, les pros entrent en lice pour une heure de spectacle. \nLes dimanches du conte c’est bieng. Venez !
URL:https://le-ka-oneagain.org/concert/dimanche-du-conte25/
LOCATION:Le KA\, 148 Avenue des Chalus\, Forcalquier\, 04300\, France
CATEGORIES:Conte
ATTACH;FMTTYPE=image/jpeg:https://le-ka-oneagain.org/wp-content/uploads/2024/10/dimanche_du_conte.jpg
ORGANIZER;CN="One Again":MAILTO:direction@le-ka-oneagain.org
END:VEVENT
BEGIN:VEVENT
DTSTART;TZID=Europe/Paris:20250117T200000
DTEND;TZID=Europe/Paris:20250117T200000
DTSTAMP:20260423T002915
CREATED:20241127T133000Z
LAST-MODIFIED:20250227T214140Z
UID:801-1737144000-1737144000@le-ka-oneagain.org
SUMMARY:ATOMIC PING PONG
DESCRIPTION:ATOMIC PING PONG\nQuand on écoute Atomic Ping Pong\, la gravité est optionnelle et l’absurde est le seul dialecte à bord. \nDe l’écologie à l’amour gay en passant par la mise en orbite d’un raton laveur en recherche de nouveaux horizons politiques\, les 5 musicien.nes y brassent une musique aux influences multiples pour créer un univers euphorisant\, atomique et lunaire. \nRefrains hypnotisants à triple sens\, nappes de synthé enveloppantes et clarinette basse explosive montée sur pédalier tentaculaire\, chaque nouveau morceau est l’occasion de changer de costume comme de style. \nEntre l’humour de Philippe Katerine\, le groove d’Abraham Inc et la sensibilité de Sages Comme Des Sauvages\, Atomic Ping Pong invite le public à danser sur un sentier surréaliste\, politique et plein d’auto-dérision. \n  \n  \n \n 
URL:https://le-ka-oneagain.org/concert/atomic-ping-pong/
LOCATION:Le KA\, 148 Avenue des Chalus\, Forcalquier\, 04300\, France
CATEGORIES:Concert
ATTACH;FMTTYPE=image/jpeg:https://le-ka-oneagain.org/wp-content/uploads/2024/11/Atomic1.jpg
ORGANIZER;CN="One Again":MAILTO:direction@le-ka-oneagain.org
END:VEVENT
BEGIN:VEVENT
DTSTART;TZID=Europe/Paris:20250124T200000
DTEND;TZID=Europe/Paris:20250124T200000
DTSTAMP:20260423T002915
CREATED:20241231T123750Z
LAST-MODIFIED:20250227T214140Z
UID:830-1737748800-1737748800@le-ka-oneagain.org
SUMMARY:JOULIK
DESCRIPTION:JOULIK\n \nLe trio Joulik dessine ses carnets de voyages sonores comme une ode aux Ailleurs\, aux langues mêlées et aux paysages imprégnés de parfum de liberté. \nLe nouvel opus\, Racines\, ancre ce cheminement dans un territoire imaginaire\, une contrée sans frontière où la boussole s’affole du pourtour Méditerranéen à l’Océan Indien\, des terres celtiques en rives balkaniques\, d’embruns brésiliens en échos subsahariens. \nUn pays fantasmé\, révélé au fil des voix et des cordes enlacées que Joulik essaime sous un arbre à palabres. \nEnraciné au cœur du monde… \n  \n  \n 
URL:https://le-ka-oneagain.org/concert/joulik/
LOCATION:Le KA\, 148 Avenue des Chalus\, Forcalquier\, 04300\, France
CATEGORIES:Concert
ATTACH;FMTTYPE=image/png:https://le-ka-oneagain.org/wp-content/uploads/2024/12/c-Cleement-Puig.png
ORGANIZER;CN="One Again":MAILTO:direction@le-ka-oneagain.org
END:VEVENT
BEGIN:VEVENT
DTSTART;TZID=Europe/Paris:20250125T200000
DTEND;TZID=Europe/Paris:20250125T200000
DTSTAMP:20260423T002915
CREATED:20241231T124441Z
LAST-MODIFIED:20250227T214140Z
UID:833-1737835200-1737835200@le-ka-oneagain.org
SUMMARY:SHAOLIN TEMPLE DEFENDERS
DESCRIPTION:SHAOLIN TEMPLE DEFENDERS\nGroupe de scène par excellence\, les Shaolin Temple Defenders brûlent les planches à chaque passage depuis plus de quinze ans. \n \nAprès plusieurs tournées à travers le monde (France\, Royaume-Uni\, Canada\, Italie\, Espagne\, Suisse etc.)\, 4 albums studio + un album live enregistré avec Martha High (Choriste de James Brown) les Shaolin sont devenus les représentants français de la nouvelle scène Soul internationale. \nEntre Funk torride et Soul soyeuse\, leur musique s’inspire fortement du Rhythm and Blues des 60′s et 70′s\, mais leurs influences Rock et Hip-Hop inscrivent définitivement le groupe dans l’ère du temps. \n 
URL:https://le-ka-oneagain.org/concert/shaolin-temple-defenders/
LOCATION:Le KA\, 148 Avenue des Chalus\, Forcalquier\, 04300\, France
CATEGORIES:Concert
ATTACH;FMTTYPE=image/png:https://le-ka-oneagain.org/wp-content/uploads/2024/12/SHAOLINTEMPLEDEFENDERS.png
ORGANIZER;CN="One Again":MAILTO:direction@le-ka-oneagain.org
END:VEVENT
END:VCALENDAR