BEGIN:VCALENDAR
VERSION:2.0
PRODID:-//LE KA - CONCERTS - SPECTACLES - ECPv6.15.20//NONSGML v1.0//EN
CALSCALE:GREGORIAN
METHOD:PUBLISH
X-ORIGINAL-URL:https://le-ka-oneagain.org
X-WR-CALDESC:Évènements pour LE KA - CONCERTS - SPECTACLES
REFRESH-INTERVAL;VALUE=DURATION:PT1H
X-Robots-Tag:noindex
X-PUBLISHED-TTL:PT1H
BEGIN:VTIMEZONE
TZID:Europe/Paris
BEGIN:DAYLIGHT
TZOFFSETFROM:+0100
TZOFFSETTO:+0200
TZNAME:CEST
DTSTART:20240331T010000
END:DAYLIGHT
BEGIN:STANDARD
TZOFFSETFROM:+0200
TZOFFSETTO:+0100
TZNAME:CET
DTSTART:20241027T010000
END:STANDARD
BEGIN:DAYLIGHT
TZOFFSETFROM:+0100
TZOFFSETTO:+0200
TZNAME:CEST
DTSTART:20250330T010000
END:DAYLIGHT
BEGIN:STANDARD
TZOFFSETFROM:+0200
TZOFFSETTO:+0100
TZNAME:CET
DTSTART:20251026T010000
END:STANDARD
BEGIN:DAYLIGHT
TZOFFSETFROM:+0100
TZOFFSETTO:+0200
TZNAME:CEST
DTSTART:20260329T010000
END:DAYLIGHT
BEGIN:STANDARD
TZOFFSETFROM:+0200
TZOFFSETTO:+0100
TZNAME:CET
DTSTART:20261025T010000
END:STANDARD
END:VTIMEZONE
BEGIN:VEVENT
DTSTART;TZID=Europe/Paris:20250201T180000
DTEND;TZID=Europe/Paris:20250201T235900
DTSTAMP:20260422T225724
CREATED:20241231T131032Z
LAST-MODIFIED:20250227T214140Z
UID:843-1738432800-1738454340@le-ka-oneagain.org
SUMMARY:SCÈNE OUVERTE / DÉCOUVERTES
DESCRIPTION:Les scènes ouvertes sont des moments exceptionnels où se retrouvent bon nombre d’artistes locaux et régionaux de tous horizons\, amateurs ou professionnels et de tous âges. Le KA met à disposition sono\, micros et batterie. La règle est simple : jouer d’un instrument\, tous les styles et les niveaux sont acceptés\, pas de rivalité\, partage et amitiés musicales aux rendez-vous. Les uns\, plus expérimentés soutiennent les autres\, c’est ainsi qu’on avance. Depuis\, de nouveaux talents ont vu le jour. L’entrée est libre. \nLa soirée comporte plusieurs parties : \n\n18h à 19h : Ecole de musique intercommunal Pays de Forcalquier Montagne de Lure.\n19h : début de la scène ouverte/découvertes.  Un tableau d’inscription ou se succèdent toutes les 20 minutes des groupes découvertes et des bœufs.\n0h : Clôture\n\nLe BŒUF Comment ça marche ? Dans la boite correspondant à son instrument\, on met son nom et on attend d’être tiré au sort\, quand le line up est en place\, on pioche une suite d’accord (facile) et enfin on choisi un tempo ou un style. 3\, 4\, c’est parti pour le 1er morceau\, la suite c’est eux qui l’invente !\nToutes les 20 min\, on tire au sort de nouveaux musiciens et le plateau change\, simple non ? Plus on est de fous\, plus ça joue !!! On peu faire aussi des compos perso\, des reprises\, des plagias\, et même de l’impro. \nLes DECOUVERTES. C’est l’occasion pour ces nouveaux talents d’expérimenter leurs créations et de les faire découvrir au public.
URL:https://le-ka-oneagain.org/concert/scene-ouverte-decouvertes-2/
LOCATION:Le KA\, 148 Avenue des Chalus\, Forcalquier\, 04300\, France
CATEGORIES:Scène Ouverte
ATTACH;FMTTYPE=image/jpeg:https://le-ka-oneagain.org/wp-content/uploads/2024/10/scene_ouverte.jpg
ORGANIZER;CN="One Again":MAILTO:direction@le-ka-oneagain.org
END:VEVENT
BEGIN:VEVENT
DTSTART;TZID=Europe/Paris:20250202T160000
DTEND;TZID=Europe/Paris:20250202T180000
DTSTAMP:20260422T225724
CREATED:20241231T132324Z
LAST-MODIFIED:20250227T214140Z
UID:845-1738512000-1738519200@le-ka-oneagain.org
SUMMARY:DIMANCHE DU CONTE
DESCRIPTION:DE RACINES A RACINES\nDepuis longtemps j’avais le désir de relier à pied mes racines paternelles à mes racines maternelles\, pour combler physiquement un vide géographique entre mes deux cultures\, pour panser une énième fois les blessures d’avoir vécu étranger en France et en Italie\, je n’étais jamais d’ici\, toujours d’Ailleurs. \nLa pause Covid m’a permis de libérer deux mois\, Mai et Juin 2022\, pour faire ce voyage. Je n’avais jamais marché plus de 4 h\, jamais fait une randonnée seul et en autonomie.\nAvec l’innocence de « Jean le Sot »\, je suis parti le 29 avril de Manfredonia. J’ai suivi la Via Francigena\, via Roma. Je suis arrivé à la frontière le 21 juin. Les orages d’été ont arrêté mon chemin.\nJe l’ai repris le 18 Avril 2024\, où l’hiver est revenu pour pimenter mes pas…\nJe vous raconterai cette expérience riche de rencontres humaines\, animales\, végétales\, minérales…..\nJe vous conterai quelques histoires qui m’ont sauvé de la folie solitaire\, je vous parlerai des chemins que l’humanité foulent depuis des siècles\, mes petites gloires et mes grandes misères\, des chansons à marcher et encore bien des affaires ….\nOn raconte qu’une randonnée ressemble au résumé d’une vie\, à l’aube des mes soixante ans\, je partagerai avec plaisir mes réflexions sur mon métier de conteur lié au chemin\, mes extases physiques au sommet d’une montagne\, les bonnes et mauvaises surprises corporelles\, les montagnes russes de mon âme et les fantômes qui chantent. \nLuigi RIGNANESE.   plus d’infos ici \n\nLES DIMANCHES DU CONTE\nLE POURQUOI / COMMENT : Les dimanches du conte de Forcalquier\, c’est l’”antenne internationale” d’une “tradition contemporaine” née à Montréal il y a vingt-cinq ans et colportée en Haute- Provence en 2022 à l’initiative de La Compagnie d’A\, Pichaïm et De Bouche à Oreilles. \nUn moment parfait pour finir le week-end quand il ne fait pas encore trop chaud.\nÀ partir de 16 h 30\, scène ouverte : qui veut\, dans la salle\, prend son courage à deux mains et monte sur les planches pour conter\, dire\, chanter quelque chose. Après une pause goûter-hydratation\, les pros entrent en lice pour une heure de spectacle.
URL:https://le-ka-oneagain.org/concert/dimanche-du-conte/
LOCATION:Le KA\, 148 Avenue des Chalus\, Forcalquier\, 04300\, France
CATEGORIES:Conte
ATTACH;FMTTYPE=image/jpeg:https://le-ka-oneagain.org/wp-content/uploads/2024/12/racines.jpg
ORGANIZER;CN="One Again":MAILTO:direction@le-ka-oneagain.org
END:VEVENT
BEGIN:VEVENT
DTSTART;TZID=Europe/Paris:20250208T190000
DTEND;TZID=Europe/Paris:20250208T190000
DTSTAMP:20260422T225724
CREATED:20241231T143107Z
LAST-MODIFIED:20250227T214140Z
UID:849-1739041200-1739041200@le-ka-oneagain.org
SUMMARY:FIRST BASS
DESCRIPTION:FIRST BASS\nC’est la première soirée pour cette nouvelle association : JNX\, fondée par deux jeunes de Forcalquier passionné.es de musique qui présente en collaboration avec le KA une belle soirée électro.\nProgrammation : 19h DIBI (deephouse)\, 20h SASHAREDØX (drum & bass)\, 23h NÉRON (acidecore). \n \nPréventes en line : 13€\nSur Place                : 18€ \n  \n  \n 
URL:https://le-ka-oneagain.org/concert/first-bass/
LOCATION:Le KA\, 148 Avenue des Chalus\, Forcalquier\, 04300\, France
CATEGORIES:Concert
ATTACH;FMTTYPE=image/jpeg:https://le-ka-oneagain.org/wp-content/uploads/2024/12/first_bass3.jpg
END:VEVENT
BEGIN:VEVENT
DTSTART;TZID=Europe/Paris:20250215T200000
DTEND;TZID=Europe/Paris:20250215T200000
DTSTAMP:20260422T225724
CREATED:20250201T152256Z
LAST-MODIFIED:20250227T214140Z
UID:865-1739649600-1739649600@le-ka-oneagain.org
SUMMARY:MEDUSA + AMAZONITA
DESCRIPTION:MEDUSA\nNé en 2021 le groupe Medusa est une formation musicale de neuf musiciennes situées sur Marseille et alentours. Le spectacle est sincère\, l’énergie est présente et le groupe cherche la complicité avec le public à chaque fois. \n \nLe répertoire\nSon univers est composé des rythmes de la cumbia. Son répertoire voyage dans toute l’Amérique du sud\, avec des morceaux plus ou moins connus\, d’autres plus classiques\, traditionnels de Colombie et désormais des compositions originales en espagnol et en français.\nC’est une musique joviale\, dansante et qui utilise les rythmes endiablés de la cumbia pour faire danser sur les pistes. Le répertoire crée des dialogues entre des instants improvisés parfois d’inspiration jazz\, parfois du folklore et des moments de cumbia pure. \n \n  \nAMAZONITA\nAmazonita est dj et productrice musicale \, percussionniste\, performeuse\, médiatrice culturelle et artiviste féministe qui arrive tout droit d’Equateur pour vous embarquer dans ses rythmes afro/sud américains\, des Caraïbes aux côtes brésiliennes en passant par la nueva-cumbia colombienne et les sons électro andins actuels; Mais pas que ! suite à ses voyages en Afrique de l’Ouest elle enrichit encore ses propositions musicales ; du pur Global sound et des latin-beats en puissance !\nEn 2019\, elle crée le projet OtraTierra école d’artivismes latino-américains avec lequel Amazonita voyage un peu partout en militant pour un monde plus juste depuis une perspective féministe et décoloniale. \n  \n  \n  \n  \n 
URL:https://le-ka-oneagain.org/concert/medusa-amazonita/
LOCATION:Le KA\, 148 Avenue des Chalus\, Forcalquier\, 04300\, France
CATEGORIES:Concert
ATTACH;FMTTYPE=image/jpeg:https://le-ka-oneagain.org/wp-content/uploads/2025/02/medusa_cumbiaondular.jpg
ORGANIZER;CN="One Again":MAILTO:direction@le-ka-oneagain.org
END:VEVENT
BEGIN:VEVENT
DTSTART;TZID=Europe/Paris:20250221T190000
DTEND;TZID=Europe/Paris:20250221T190000
DTSTAMP:20260422T225724
CREATED:20241231T144958Z
LAST-MODIFIED:20250227T214140Z
UID:857-1740164400-1740164400@le-ka-oneagain.org
SUMMARY:CLASSEUROCK
DESCRIPTION:CLASSEUROCK\nJeunes groupes des Alpes de Haute Provence\, jeunes musicien nes de 23 ans max\, c’est aussi pour vous que l’Association Aix’Qui? organise depuis bientôt 35 ans ce fameux tremplin Classeurock dont sont issus Dagoba\, Hyphen Hyphen\, Soma\, Deluxe et bien d’autres. \nLes présélections 04 auront lieu au KA\, vendredi 21 février 2025 si toutefois … des groupes du 04 sont inscrits (l’année dernière c’était limite !) Allez\, feu ! Vous avez toutes vos chances ! \n\n👉 Les conditions d’inscription:\n-Ouvert à tous les styles musicaux\n-Réservé aux groupes de la Région Sud\n-UNIQUEMENT des musiciens de moins de 24 ans (être né à compter du 01/01/2000)\n-Pas de reprise (place à la création !)\n-Au moins un musicien\, collégien\, lycéen\, étudiant ou apprenti\n⚠️ Fin des inscriptions le mercredi 8 janvier 2025\n\n\n⚠️Inscription ici \nBonne chance !
URL:https://le-ka-oneagain.org/concert/classeurock/
LOCATION:Le KA\, 148 Avenue des Chalus\, Forcalquier\, 04300\, France
CATEGORIES:Concert
ATTACH;FMTTYPE=image/jpeg:https://le-ka-oneagain.org/wp-content/uploads/2024/12/classeurock_carre2.jpg
END:VEVENT
BEGIN:VEVENT
DTSTART;TZID=Europe/Paris:20250222T190000
DTEND;TZID=Europe/Paris:20250222T190000
DTSTAMP:20260422T225724
CREATED:20250208T135539Z
LAST-MODIFIED:20250227T214140Z
UID:884-1740250800-1740250800@le-ka-oneagain.org
SUMMARY:SCÈNE OUVERTE / DÉCOUVERTES
DESCRIPTION:Les scènes ouvertes sont des moments exceptionnels où se retrouvent bon nombre d’artistes locaux et régionaux de tous horizons\, amateurs ou professionnels et de tous âges. Le KA met à disposition sono\, micros et batterie. La règle est simple : jouer d’un instrument\, tous les styles et les niveaux sont acceptés\, pas de rivalité\, partage et amitiés musicales aux rendez-vous. Les uns\, plus expérimentés soutiennent les autres\, c’est ainsi qu’on avance. Depuis\, de nouveaux talents ont vu le jour. L’entrée est libre. \nLa soirée comporte plusieurs parties : \n\n18h à 19h : Ecole de musique intercommunal Pays de Forcalquier Montagne de Lure.\n19h : début de la scène ouverte/découvertes.  Un tableau d’inscription ou se succèdent toutes les 20 minutes des groupes découvertes et des bœufs.\n0h : Clôture\n\nLe BŒUF Comment ça marche ? Dans la boite correspondant à son instrument\, on met son nom et on attend d’être tiré au sort\, quand le line up est en place\, on pioche une suite d’accord (facile) et enfin on choisi un tempo ou un style. 3\, 4\, c’est parti pour le 1er morceau\, la suite c’est eux qui l’invente !\nToutes les 20 min\, on tire au sort de nouveaux musiciens et le plateau change\, simple non ? Plus on est de fous\, plus ça joue !!! On peu faire aussi des compos perso\, des reprises\, des plagias\, et même de l’impro. \nLes DECOUVERTES. C’est l’occasion pour ces nouveaux talents d’expérimenter leurs créations et de les faire découvrir au public.
URL:https://le-ka-oneagain.org/concert/scene-ouverte-decouvertes-3/
LOCATION:Le KA\, 148 Avenue des Chalus\, Forcalquier\, 04300\, France
CATEGORIES:Scène Ouverte
ATTACH;FMTTYPE=image/jpeg:https://le-ka-oneagain.org/wp-content/uploads/2024/10/scene_ouverte.jpg
ORGANIZER;CN="One Again":MAILTO:direction@le-ka-oneagain.org
END:VEVENT
BEGIN:VEVENT
DTSTART;TZID=Europe/Paris:20250228T200000
DTEND;TZID=Europe/Paris:20250228T200000
DTSTAMP:20260422T225724
CREATED:20250201T153839Z
LAST-MODIFIED:20250227T214140Z
UID:870-1740772800-1740772800@le-ka-oneagain.org
SUMMARY:SOIREE METAL
DESCRIPTION:RATTEN\nRåtten débarque avec un Black Metal qui n’a que faire des fioritures\, un côté raw mais tout de même travaillé pour rendre le tout avec une réelle identité\, un côté sombre indéniable où la folie n’est pas si loin que ça. Roi-de-Rats dévaste tout sur son passage\, âme sensible s’abstenir. \nDans un style de Black Metal sec et raw à souhait\, mais tout à fait écoutable\, Råtten parvient à sortir son épingle du jeu grâce à des ambiances prenantes\, inspirées\, minimaliste aux premiers abords mais finalement riches après plusieurs écoutes. La noirceur est palpable\, notamment avec cette voix déchirante\, des cris sauvages avec des messages puissants. Le jeu de guitare est particulièrement intéressant\, notamment par toutes ces variations de styles\, allant du très rapide au saccadé sur de nombreux passages subtiles et des plus intéressants. La basse joue son rôle et apporte\, si c’est possible\, encore plus de côté sombre à l’ensemble (le début du titre ‘Contamination’ est un délice). Variation des tempos omniprésent avec un jeu de batterie précis et fracassant\, tout le panel y passe et c’est particulièrement agréable et essentiel pour l’homogénéité\, l’adéquation totale est ici un plus indéniable. \nUn vrai album de Black Metal venant des tripes\, de la noirceur glaciale que peut parfois être l’âme humaine. Très inspiré et réussi dans le fond mais également dans la forme avec un digipack sublime. A suivre de très près ! \n \nCASTELBRAVO\n \n  \nEtes-vous prêt pour le son “New Wave of Thrash Metal” ? \nOui ? Grande nouvelle : Castlebravo est né ! \nDes rythmiques tranchantes héritées de Metallica\, des harmonies mélancoliques et des solos endiablés à la Megadeth\, des Grooves puissants s’inspirant de Pantera. \nOn espère que vos murs sont porteurs ! \n  \n\n\n \n\n______________________________________\nHEMENE\nGuitare Folk et Beat Indus\n\n \nhttps://le-ka-oneagain.org/wp-content/uploads/2025/02/Hemene-This-Is-No-Place-For-Such-Joy-As-Yours.mp3
URL:https://le-ka-oneagain.org/concert/soiree-metal/
LOCATION:Le KA\, 148 Avenue des Chalus\, Forcalquier\, 04300\, France
CATEGORIES:Concert
ATTACH;FMTTYPE=image/jpeg:https://le-ka-oneagain.org/wp-content/uploads/2025/02/soireemetal.jpg
ORGANIZER;CN="One Again":MAILTO:direction@le-ka-oneagain.org
END:VEVENT
END:VCALENDAR