BEGIN:VCALENDAR
VERSION:2.0
PRODID:-//LE KA - CONCERTS - SPECTACLES - ECPv6.15.20//NONSGML v1.0//EN
CALSCALE:GREGORIAN
METHOD:PUBLISH
X-WR-CALNAME:LE KA - CONCERTS - SPECTACLES
X-ORIGINAL-URL:https://le-ka-oneagain.org
X-WR-CALDESC:Évènements pour LE KA - CONCERTS - SPECTACLES
REFRESH-INTERVAL;VALUE=DURATION:PT1H
X-Robots-Tag:noindex
X-PUBLISHED-TTL:PT1H
BEGIN:VTIMEZONE
TZID:Europe/Paris
BEGIN:DAYLIGHT
TZOFFSETFROM:+0100
TZOFFSETTO:+0200
TZNAME:CEST
DTSTART:20240331T010000
END:DAYLIGHT
BEGIN:STANDARD
TZOFFSETFROM:+0200
TZOFFSETTO:+0100
TZNAME:CET
DTSTART:20241027T010000
END:STANDARD
BEGIN:DAYLIGHT
TZOFFSETFROM:+0100
TZOFFSETTO:+0200
TZNAME:CEST
DTSTART:20250330T010000
END:DAYLIGHT
BEGIN:STANDARD
TZOFFSETFROM:+0200
TZOFFSETTO:+0100
TZNAME:CET
DTSTART:20251026T010000
END:STANDARD
BEGIN:DAYLIGHT
TZOFFSETFROM:+0100
TZOFFSETTO:+0200
TZNAME:CEST
DTSTART:20260329T010000
END:DAYLIGHT
BEGIN:STANDARD
TZOFFSETFROM:+0200
TZOFFSETTO:+0100
TZNAME:CET
DTSTART:20261025T010000
END:STANDARD
END:VTIMEZONE
BEGIN:VEVENT
DTSTART;TZID=Europe/Paris:20250404T223000
DTEND;TZID=Europe/Paris:20250404T223000
DTSTAMP:20260422T194648
CREATED:20250301T150940Z
LAST-MODIFIED:20250401T164943Z
UID:986-1743805800-1743805800@le-ka-oneagain.org
SUMMARY:PETIT TONNERRE
DESCRIPTION:PETIT TONNERRE\n  \nEntre musiques du monde et soubresauts électriques\, Petit Tonnerre chante haut et fort une musique traditionnelle moderne\, festive et dansante. \nGrooves méditerranéens\, transes lancinantes et envolées lyriques\, de quoi mettre du soleil sous la pluie…
URL:https://le-ka-oneagain.org/concert/petit-tonnerre/
LOCATION:Le KA\, 148 Avenue des Chalus\, Forcalquier\, 04300\, France
CATEGORIES:Concert
ATTACH;FMTTYPE=image/png:https://le-ka-oneagain.org/wp-content/uploads/2025/03/petittonnerre_new.png
ORGANIZER;CN="One Again":MAILTO:direction@le-ka-oneagain.org
END:VEVENT
BEGIN:VEVENT
DTSTART;TZID=Europe/Paris:20250412T203000
DTEND;TZID=Europe/Paris:20250412T203000
DTSTAMP:20260422T194648
CREATED:20250301T151818Z
LAST-MODIFIED:20250326T162948Z
UID:991-1744489800-1744489800@le-ka-oneagain.org
SUMMARY:ACAMPA
DESCRIPTION:ACAMPA\nAcampa\, une énergie musicale addictive émise par une meute fraîchement descendue des montagnes. \nPlein de surprises\, d’émotions et de bonnes vibrations. Le big band vous emmène là où vous ne vous attendez pas. \nDu reggae ? Oui mais pas que… Les influences sont multiples\, de la funk progressive au latino en passant par le rock\, Acampa fusionne les styles au service d’une passion : le groove ! \n 
URL:https://le-ka-oneagain.org/concert/acampa/
LOCATION:Le KA\, 148 Avenue des Chalus\, Forcalquier\, 04300\, France
CATEGORIES:Concert
ATTACH;FMTTYPE=image/png:https://le-ka-oneagain.org/wp-content/uploads/2025/03/acampa_new.png
ORGANIZER;CN="One Again":MAILTO:direction@le-ka-oneagain.org
END:VEVENT
BEGIN:VEVENT
DTSTART;TZID=Europe/Paris:20250419T203000
DTEND;TZID=Europe/Paris:20250419T203000
DTSTAMP:20260422T194648
CREATED:20250301T152927Z
LAST-MODIFIED:20250326T162948Z
UID:995-1745094600-1745094600@le-ka-oneagain.org
SUMMARY:GANG JAH MIND
DESCRIPTION:GANG JAH MIND\nC’est à Marseille qu’est né le reggae français il y a plus de quarante ans et aujourd’hui l’histoire continue\, la ville porte toujours en elle tout ce qui a fait la force de la musique Reggae : le multiculturalisme\, la diversité sociale\, la quête d’égalité et un esprit de rébellion et d’indépendance. \nGang Jah Mind naît à Marseille\, le groupe possède toujours une identité unique dans le monde de la musique Reggae. \nGang Jah Mind c’est plusieurs centaines de concerts mais uniquement 2 albums et 1 Ep\, qui représentaient leur idée de la perfection au moment de leur création. \nAujourd’hui en pleine maturité artistique\, le groupe prend une nouvelle dimension et veut partager sa vision du monde\, qui en a grand besoin !
URL:https://le-ka-oneagain.org/concert/gang-jah-mind/
LOCATION:Le KA\, 148 Avenue des Chalus\, Forcalquier\, 04300\, France
CATEGORIES:Concert
ATTACH;FMTTYPE=image/jpeg:https://le-ka-oneagain.org/wp-content/uploads/2025/03/gangjahmind-s.jpg
ORGANIZER;CN="One Again":MAILTO:direction@le-ka-oneagain.org
END:VEVENT
BEGIN:VEVENT
DTSTART;TZID=Europe/Paris:20250425T200000
DTEND;TZID=Europe/Paris:20250425T200000
DTSTAMP:20260422T194648
CREATED:20250326T164656Z
LAST-MODIFIED:20250611T121053Z
UID:1023-1745611200-1745611200@le-ka-oneagain.org
SUMMARY:SOIRÉE FORRO
DESCRIPTION:SOIRÉE FORRO\nDans le cadre du Weekend Forrо́ Champêtre#5\, avec l’association YALODÊ \nBAL CONCERT FORRÓ avec Nandinho Barros de Rio (Accordéon et chant) en tournée exceptionnelle en France\, accompagné de : Dhu Messias : Zabumba (percussions et chant) et Lise Dieumegard (Triangle\, percussions et chant) \nEn after Dj Ghali – Mobylette Sound System (Mistral Tropical- Forró) DJ marseillais\, membre du Mobylette Sound System qui distille « el sonido tropical » \nRéservations
URL:https://le-ka-oneagain.org/concert/soiree-forro/
LOCATION:Le KA\, 148 Avenue des Chalus\, Forcalquier\, 04300\, France
CATEGORIES:Concert
ATTACH;FMTTYPE=image/png:https://le-ka-oneagain.org/wp-content/uploads/2025/03/soiree_forro.png
ORGANIZER;CN="YALOD%C3%8A":MAILTO:asso.yalode@gmail.com
END:VEVENT
BEGIN:VEVENT
DTSTART;TZID=Europe/Paris:20250427T160000
DTEND;TZID=Europe/Paris:20250427T190000
DTSTAMP:20260422T194648
CREATED:20250404T145400Z
LAST-MODIFIED:20250611T121053Z
UID:1029-1745769600-1745780400@le-ka-oneagain.org
SUMMARY:CONSERVATOIRE DÉPARTEMENTAL
DESCRIPTION:Le KA accueille le Conservatoire Départemental des Alpes de Haute-Provence\n \nAu programme : \n3 groupes de la classe de musiques actuelles amplifiées du conservatoire des alpes de Haute-Provence \n1 groupe de la classe de musiques traditionnelles du Conservatoire des Alpes de Haute-Provence avec au programme\, musiques et chants des Balkans\, Méditerranée\, Irlande (violons\, flûtes\, harpe\, chant\, luth\, guitare\, percussions…) \n– Enfin\, la classe de chant de Forcalquier avec 1 duo\, 1 chorale d’ados et une chanteuse \n 
URL:https://le-ka-oneagain.org/concert/conservatoire-departemental-2/
LOCATION:Le KA\, 148 Avenue des Chalus\, Forcalquier\, 04300\, France
CATEGORIES:Concert
ATTACH;FMTTYPE=image/jpeg:https://le-ka-oneagain.org/wp-content/uploads/2025/04/conservatoire04.jpg
ORGANIZER;CN="One Again":MAILTO:direction@le-ka-oneagain.org
END:VEVENT
BEGIN:VEVENT
DTSTART;TZID=Europe/Paris:20250430T203000
DTEND;TZID=Europe/Paris:20250430T203000
DTSTAMP:20260422T194648
CREATED:20250404T151609Z
LAST-MODIFIED:20250611T121053Z
UID:1033-1746045000-1746045000@le-ka-oneagain.org
SUMMARY:LA MARMITE + BALLA BANGOURA
DESCRIPTION:BALLA BANGOURA\nBalla vous embarque à mi-chemin entre la Casamance (sud Sénégal) et les Alpes du Sud. Quatre musiciens\, portés par la Basse\, la Guitare et les Percussions animent les corps et les coeurs\, le temps d’un concert. \nLes chants et la Kora racontent l’Amour et la Nostalgie des nôtres\, proches ou éloignés. \nLes paroles en wolof sonnent comme une ode à la joie dans les tumultes de la vie.\nL’énergie déployée sur scène contamine la salle\, et emmène le public vers une danse exaltée. \nUn show Afro-electro-groove qui mets le feu partout ou il passe \n \n\nLA MARMITE\nLa Marmite est un groupe bouillonnant de talent\, originaire des Alpes-de-Haute-Provence (04) et implanté dans les Bouches-du-Rhône (13). Depuis 2022\, ils sillonnent la région PACA\, apportant un vent de fraîcheur au Rap avec un style unique et affirmé. \nLa recette de la Marmite ? Une énergie folle et contagieuse à laquelle chaque membre apporte une saveur unique. \nAu micro on retrouve les 7 rappeurs Arizki\, Costa\, Duarte\, Jook\, LI\, MC Gareth & Sysy. Mano\, l’ingé son de la bande\, est aux manettes\, de la composition jusqu’au live\, en passant par l’enregistrement et le mix. \nWithtom\, le photographe et vidéaste du groupe\, fait pleinement partie de l’équipe. Il réalise les visuels et façonne l’image globale du groupe. \nIndépendants et sans limites\, La Marmite n’hésite pas à proposer des sonorités originales et innovantes en mélangeant le Rap à la House ou à la Tekno\, avec des textes authentiques qui représentent leur campagne et leurs montagnes. \nhttps://www.instagram.com/lamarmite04/ \nhttps://www.facebook.com/lamarmite04/ \nhttps://www.youtube.com/@lamarmite04 \n https://www.tiktok.com/@lamarmite04?_t=8k7plMPEBM0&_r=1 \n https://fanlink.tv/lamarmite (lien qui dirige vers toutes les plateformes d’écoutes pour écouter les projets La Marmite)
URL:https://le-ka-oneagain.org/concert/la-marmite-balla-bangoura/
LOCATION:Le KA\, 148 Avenue des Chalus\, Forcalquier\, 04300\, France
CATEGORIES:Concert
ATTACH;FMTTYPE=image/jpeg:https://le-ka-oneagain.org/wp-content/uploads/2025/04/BallaBangoura-LaMarmite.jpg
END:VEVENT
END:VCALENDAR