BEGIN:VCALENDAR
VERSION:2.0
PRODID:-//LE KA - CONCERTS - SPECTACLES - ECPv6.15.20//NONSGML v1.0//EN
CALSCALE:GREGORIAN
METHOD:PUBLISH
X-ORIGINAL-URL:https://le-ka-oneagain.org
X-WR-CALDESC:Évènements pour LE KA - CONCERTS - SPECTACLES
REFRESH-INTERVAL;VALUE=DURATION:PT1H
X-Robots-Tag:noindex
X-PUBLISHED-TTL:PT1H
BEGIN:VTIMEZONE
TZID:Europe/Paris
BEGIN:DAYLIGHT
TZOFFSETFROM:+0100
TZOFFSETTO:+0200
TZNAME:CEST
DTSTART:20240331T010000
END:DAYLIGHT
BEGIN:STANDARD
TZOFFSETFROM:+0200
TZOFFSETTO:+0100
TZNAME:CET
DTSTART:20241027T010000
END:STANDARD
BEGIN:DAYLIGHT
TZOFFSETFROM:+0100
TZOFFSETTO:+0200
TZNAME:CEST
DTSTART:20250330T010000
END:DAYLIGHT
BEGIN:STANDARD
TZOFFSETFROM:+0200
TZOFFSETTO:+0100
TZNAME:CET
DTSTART:20251026T010000
END:STANDARD
BEGIN:DAYLIGHT
TZOFFSETFROM:+0100
TZOFFSETTO:+0200
TZNAME:CEST
DTSTART:20260329T010000
END:DAYLIGHT
BEGIN:STANDARD
TZOFFSETFROM:+0200
TZOFFSETTO:+0100
TZNAME:CET
DTSTART:20261025T010000
END:STANDARD
END:VTIMEZONE
BEGIN:VEVENT
DTSTART;TZID=Europe/Paris:20250920T190000
DTEND;TZID=Europe/Paris:20250920T230000
DTSTAMP:20260422T122345
CREATED:20250911T091818Z
LAST-MODIFIED:20250915T130346Z
UID:1269-1758394800-1758409200@le-ka-oneagain.org
SUMMARY:SCÈNE OUVERTE / DÉCOUVERTES
DESCRIPTION:Prix Libre – Ouverture 18h \nLes scènes ouvertes sont des moments exceptionnels où se retrouvent bon nombre d’artistes locaux et régionaux de tous horizons\, amateurs ou professionnels et de tous âges. \nLe KA met à disposition sono\, micros et batterie. La règle est simple : jouer d’un instrument\, tous les styles et les niveaux sont acceptés\, pas de rivalité\, partage et amitiés musicales aux rendez-vous. Les uns\, plus expérimentés soutiennent les autres\, c’est ainsi qu’on avance. Depuis\, de nouveaux talents ont vu le jour. L’entrée est libre. \nLe BŒUF Comment ça marche ? Dans la boite correspondant à son instrument\, on met son nom et on attend d’être tiré au sort\, quand le line up est en place\, on pioche une suite d’accord (facile) et enfin on choisi un tempo ou un style. 3\, 4\, c’est parti pour le 1er morceau\, la suite c’est eux qui l’invente !\nToutes les 20 min\, on tire au sort de nouveaux musiciens et le plateau change\, simple non ? Plus on est de fous\, plus ça joue !!! On peu faire aussi des compos perso\, des reprises\, des plagias\, et même de l’impro. \nLes DECOUVERTES. C’est l’occasion pour ces nouveaux talents d’expérimenter leurs créations et de les faire découvrir au public. \n 
URL:https://le-ka-oneagain.org/concert/scene-ouverte-decouvertes-092025/
LOCATION:Le KA\, 148 Avenue des Chalus\, Forcalquier\, 04300\, France
CATEGORIES:Scène Ouverte
ATTACH;FMTTYPE=image/jpeg:https://le-ka-oneagain.org/wp-content/uploads/2024/10/scene_ouverte.jpg
ORGANIZER;CN="One Again":MAILTO:direction@le-ka-oneagain.org
END:VEVENT
BEGIN:VEVENT
DTSTART;TZID=Europe/Paris:20250926T200000
DTEND;TZID=Europe/Paris:20250926T200000
DTSTAMP:20260422T122345
CREATED:20250911T102139Z
LAST-MODIFIED:20250915T130737Z
UID:1275-1758916800-1758916800@le-ka-oneagain.org
SUMMARY:GUIZ + DARKROSE
DESCRIPTION:Dans le cadre du tremplin Class’EuRock réservé aux jeunes musiciens et musiciennes de notre région PACA la fin d’année est consacrée aux tournées Class’EuRock\, moment où les groupes lauréats peuvent parfaire leur expérience de la scène sous l’angle mini tournée. \nCe soir\, on reçoit Guizmo et Dark Rose en première partie (lauréat Class’Eurock 2022) !\nCette date est co-organisée par les associations Aix’Qui? et One Again! \nOuverture 20h – Concert 21H \n \n \nGUIZ\nObjecteur de conscience dans l’âme\, Guiz est l’auteur d’un grand nombre de chansons incontournables du groupe Tryo depuis bientôt 30 ans (« L’Hymne de nos campagnes »\, « Toi et moi »\, « La main verte »…). \nS’il a participé à différents projets au sein de collectifs durant les précédentes pauses du groupe\, c’est la première fois qu’il porte un projet en solo. \n« Carnaval »\, premier extrait de l’album à venir\, sortira le 31 octobre. Ce titre coup de poing est le reflet d’une période politique troublée\, disséquée avec mordant et sans concession. Guiz n’y lâche pas sa verve habituelle et son texte aux paroles affûtées se pose sur des nappes électro rock qui confèrent au morceau puissance et précision. Le clip\, fait maison et haut en couleurs\, colle parfaitement à la frénésie de la chanson et met en images toute l’ironie de son propos. \nDans l’album\, qui paraîtra au printemps 2025\, Guiz porte haut les valeurs et les engagements qui sont les siens depuis le début de sa carrière\, de l’écologie au vivre ensemble\, avec son regard unique\, à la fois acéré et empreint de poésie.\nLe concert offre quant à lui un set-up éclectique\, mêlant l’organique des instruments à l’intensité des platines et des sons électroniques. \n  \n \n\n\n \nDARKROSE \nDans chaque note résonne l’héritage des grands noms du rock\, mais DARKROSE y insuffle une énergie et une passion propres à sa jeunesse. Son style rock métissé s’enrichit d’influences vibrantes\, empreintes de l’esprit girl power qui propulse sa musique vers de nouveaux sommets. \nÀ travers sa musique\, DARKROSE partage sa passion avec le public\, offrant des performances fortes et pleines d’authenticité.\nDarkrose\, une explosion sonore venue des hauteurs des Alpes du Sud. \nLauréat ClassEurock \n \n \n 
URL:https://le-ka-oneagain.org/concert/guiz-darkrose/
LOCATION:Le KA\, 148 Avenue des Chalus\, Forcalquier\, 04300\, France
CATEGORIES:Concert
ATTACH;FMTTYPE=image/png:https://le-ka-oneagain.org/wp-content/uploads/2025/09/Giz_Darkrose.png
END:VEVENT
BEGIN:VEVENT
DTSTART;TZID=Europe/Paris:20250927T180000
DTEND;TZID=Europe/Paris:20250927T180000
DTSTAMP:20260422T122345
CREATED:20250911T112243Z
LAST-MODIFIED:20250918T122240Z
UID:1291-1758996000-1758996000@le-ka-oneagain.org
SUMMARY:PETITS LIEUX EN FÊTE
DESCRIPTION:5 PETITS LIEUX DU CENTRE VILLE ET 1 PLUS EXCENTRÉ DÉCIDENT DE FAIRE UNE PROGRAMMATION COMMUNE :\nOn passe de lieux en lieux\, on découvre leurs univers\, on collectionne les tampons\, à la fin on fait la fête au KA\, et si on a fait tout le parcours on a un cadeau et c’est bien ! \nEn collaboration avec la Rirette\, le Garage L\, le L.O.B.E.\, le Local\, et Chichi Pompon. \nCes petits lieux\, ils sont tous différents mais leurs projets sont tous indépendants\, ouverts sur l’espace public\, pour le public.\nIls offrent une proposition culturelle et/ou sociale\, pratiquent le prix libre ou de petits tarifs\, de moyens et beaucoup d’enthousiasme et d’engagement.\nIls participent à faire vivre la ville et ça leur plaît \nJOURNÉE ENTIÈREMENT À PRIX LIBRE!\nLes bénéfices seront répartis entre les 5 lieux organisateurs \n \n \n  \nCONCERT au Ka\nPrix libre – Ouverture 18 h • Concert 19 h  \n  \n \nBOX OF BRATS\n« Les Morveux ont bien fait leurs devoirs et lignes d’écriture pendant leurs heures de colle au pensionnat des « P’tits cons arrogants ».\nIls disent moins de gros mots mais les disent plus distinctement avec plus de maturité. \nQu’on se le dise : ils ont encore la forme.  » \n \n  \n  \n \nMAYOULA\nLes Mayoula viennent de régions indéfinies; sauvages et libres\, elles récoltent leurs chants et leurs musiques au gré des rencontres\, des coups de cœur: amours et colères\, des luttes qu’elles rejoignent pour bouleverser un monde dominé par un patriarcat cruel. \nElles vous entraînent au gré de chants et de mélodies\, tristes\, rêveuses\, gaies et colériques pour tenter de composer des moments de partages singuliers. \n  \n \n  \nAMA KIP KIP Trio\nEn Afrique du Sud\,Ama Kip Kip signifie « mélange de couleurs »\, un nom qui reflète parfaitement l’univers du groupe. \nPorté par la voix de Neyo Leo \, ce trio singulier associe rap\, piano\, violon et percussions pour façonner des rythmes percussifs et vibrants. \nLeur musique\, à la fois énergique et envoûtante\, puise son inspiration dans les sonorités afro et les harmonies classiques\, créant une fusion unique et puissante. \nUn concert où se mêlent intensité\, créativité et émotions.
URL:https://le-ka-oneagain.org/concert/petits-lieux-en-fete/
LOCATION:Le KA\, 148 Avenue des Chalus\, Forcalquier\, 04300\, France
CATEGORIES:Atelier,Concert,Spectacle
ATTACH;FMTTYPE=image/jpeg:https://le-ka-oneagain.org/wp-content/uploads/2025/09/Petitslieux.jpg
ORGANIZER;CN="One Again":MAILTO:direction@le-ka-oneagain.org
END:VEVENT
END:VCALENDAR