BEGIN:VCALENDAR
VERSION:2.0
PRODID:-//LE KA - CONCERTS - SPECTACLES - ECPv6.15.20//NONSGML v1.0//EN
CALSCALE:GREGORIAN
METHOD:PUBLISH
X-ORIGINAL-URL:https://le-ka-oneagain.org
X-WR-CALDESC:Évènements pour LE KA - CONCERTS - SPECTACLES
REFRESH-INTERVAL;VALUE=DURATION:PT1H
X-Robots-Tag:noindex
X-PUBLISHED-TTL:PT1H
BEGIN:VTIMEZONE
TZID:Europe/Paris
BEGIN:DAYLIGHT
TZOFFSETFROM:+0100
TZOFFSETTO:+0200
TZNAME:CEST
DTSTART:20240331T010000
END:DAYLIGHT
BEGIN:STANDARD
TZOFFSETFROM:+0200
TZOFFSETTO:+0100
TZNAME:CET
DTSTART:20241027T010000
END:STANDARD
BEGIN:DAYLIGHT
TZOFFSETFROM:+0100
TZOFFSETTO:+0200
TZNAME:CEST
DTSTART:20250330T010000
END:DAYLIGHT
BEGIN:STANDARD
TZOFFSETFROM:+0200
TZOFFSETTO:+0100
TZNAME:CET
DTSTART:20251026T010000
END:STANDARD
BEGIN:DAYLIGHT
TZOFFSETFROM:+0100
TZOFFSETTO:+0200
TZNAME:CEST
DTSTART:20260329T010000
END:DAYLIGHT
BEGIN:STANDARD
TZOFFSETFROM:+0200
TZOFFSETTO:+0100
TZNAME:CET
DTSTART:20261025T010000
END:STANDARD
END:VTIMEZONE
BEGIN:VEVENT
DTSTART;TZID=Europe/Paris:20251004T200000
DTEND;TZID=Europe/Paris:20251004T200000
DTSTAMP:20260420T183737
CREATED:20250911T122353Z
LAST-MODIFIED:20250915T131651Z
UID:1299-1759608000-1759608000@le-ka-oneagain.org
SUMMARY:DIDIER SUPER + RAGE DOGZ
DESCRIPTION:Dans le cadre du tremplin Class’EuRock réservé aux jeunes musiciens et musiciennes de notre région PACA la fin d’année est consacrée aux tournées Class’EuRock\, moment où les groupes lauréats peuvent parfaire leur expérience de la scène sous l’angle mini tournée. \nCe soir\, on reçoit  DIDIER SUPER et RAGE DOGZ en première partie (lauréat Class’Eurock 2025) !\nCette date est co-organisée par les associations Aix’Qui? et One Again! \n       Ouverture 20h – Concert 21H \n \nDIDIER SUPER\n \nDidier Super est un artiste atypique\, connu pour ses textes qui ne laissent personne indifférent […] Il a l’art de mélanger humour noir\, cynisme et poésie\, le tout accompagné de riffs de guitare endiablés. \nSur scène\, il est tout simplement incroyable : il sait faire chauffer le public comme personne et mettre l’ambiance à coup sûr comme il l’avait fait en 2019 ! \nIl sera présent avec « son groupe discount » pour nous offrir sa dose d’humour corrosif et de rock déjanté. Pourquoi DISCOUNT ? Parce que\, c’est tous ces tubes à la con que tout le monde connait par cœur et que Didier (et son groupe) massacrent à leur façon. \n  \n \n\nRAGE DOGZ\n \n  \nRAGE DOGZ est un groupe de Rock alternatif originaire de Marseille qui puise ses inspirations dans une musique énergique et survoltée.\nInfluencé par de nombreux styles (Funk\, Électro\, Soul etc…)\, le groupe offre une expérience musicale diversifiée et enivrante. \n  \n  \n \n  \n  \n 
URL:https://le-ka-oneagain.org/concert/didier-super-rage-dogz/
LOCATION:Le KA\, 148 Avenue des Chalus\, Forcalquier\, 04300\, France
CATEGORIES:Concert
ATTACH;FMTTYPE=image/png:https://le-ka-oneagain.org/wp-content/uploads/2025/09/affichedSuper.png
END:VEVENT
BEGIN:VEVENT
DTSTART;TZID=Europe/Paris:20251011T200000
DTEND;TZID=Europe/Paris:20251011T200000
DTSTAMP:20260420T183737
CREATED:20250911T123840Z
LAST-MODIFIED:20250915T132033Z
UID:1312-1760212800-1760212800@le-ka-oneagain.org
SUMMARY:FATUM FATRAS + SECONDE PEAU
DESCRIPTION:FATUM FATRAS\nPuisant son inspiration dans les chants et musiques traditionnelles de Turquie\, de Grèce et du Kurdistan\, Fatum Fatras affirme son style pour ce nouvel opus : Baraka \nToujours à la recherche de nouvelles sonorités pour affiner leur son\, les musicien-nes\, pour ce nouvel album\, se sont largement inspirés du courant « psychédélqiue Anatolien » des annèes 70 sans oublier leur goût prononcé pour le rock progressif. Un ensemble puissant et groovy sublimé par une voix au mélismes typiques de ces répertoires. \nUn nouvel album « Baraka » vient d’être enregistré et sera présenté au Ka ce 11 octobre. \n \n  \nSECONDE PEAU\nSortie de résidence \nUn duo intime et attachant qui nous parle d’amour\, mais aussi de nos transformations et de nos mues successives vers une nouvelle peau…\nUne douce embarcation musicale enivrante et poétique ou chacun peut se reconnaitre. \n \n 
URL:https://le-ka-oneagain.org/concert/fatum-fatras/
LOCATION:Le KA\, 148 Avenue des Chalus\, Forcalquier\, 04300\, France
CATEGORIES:Concert
ATTACH;FMTTYPE=image/png:https://le-ka-oneagain.org/wp-content/uploads/2025/09/fatumfatras_secondepeau.png
ORGANIZER;CN="One Again":MAILTO:direction@le-ka-oneagain.org
END:VEVENT
BEGIN:VEVENT
DTSTART;TZID=Europe/Paris:20251017T190000
DTEND;TZID=Europe/Paris:20251017T190000
DTSTAMP:20260420T183737
CREATED:20250916T140650Z
LAST-MODIFIED:20251001T111451Z
UID:1462-1760727600-1760727600@le-ka-oneagain.org
SUMMARY:SCÈNE OUVERTE / DÉCOUVERTES
DESCRIPTION:Les scènes ouvertes sont des moments exceptionnels où se retrouvent bon nombre d’artistes locaux et régionaux de tous horizons\, amateurs ou professionnels et de tous âges. \nLe KA met à disposition sono\, micros et batterie. La règle est simple : jouer d’un instrument\, tous les styles et les niveaux sont acceptés\, pas de rivalité\, partage et amitiés musicales aux rendez-vous. Les uns\, plus expérimentés soutiennent les autres\, c’est ainsi qu’on avance. Depuis\, de nouveaux talents ont vu le jour. L’entrée est libre. \nLe BŒUF Comment ça marche ? Dans la boite correspondant à son instrument\, on met son nom et on attend d’être tiré au sort\, quand le line up est en place\, on pioche une suite d’accord (facile) et enfin on choisi un tempo ou un style. 3\, 4\, c’est parti pour le 1er morceau\, la suite c’est eux qui l’invente !\nToutes les 20 min\, on tire au sort de nouveaux musiciens et le plateau change\, simple non ? Plus on est de fous\, plus ça joue !!! On peu faire aussi des compos perso\, des reprises\, des plagias\, et même de l’impro. \nLes DECOUVERTES. C’est l’occasion pour ces nouveaux talents d’expérimenter leurs créations et de les faire découvrir au public.
URL:https://le-ka-oneagain.org/concert/scene-ouverte-decouvertes-017102025/
LOCATION:Le KA\, 148 Avenue des Chalus\, Forcalquier\, 04300\, France
CATEGORIES:Scène Ouverte
ATTACH;FMTTYPE=image/jpeg:https://le-ka-oneagain.org/wp-content/uploads/2024/10/scene_ouverte.jpg
ORGANIZER;CN="One Again":MAILTO:direction@le-ka-oneagain.org
END:VEVENT
BEGIN:VEVENT
DTSTART;TZID=Europe/Paris:20251018T200000
DTEND;TZID=Europe/Paris:20251018T200000
DTSTAMP:20260420T183737
CREATED:20250915T133741Z
LAST-MODIFIED:20250916T133700Z
UID:1414-1760817600-1760817600@le-ka-oneagain.org
SUMMARY:KREWKOODIL
DESCRIPTION:KREWKOODIL\navec : LIVAÏ + MINE JAJABEFA + AMAZONITA \nLa KrewKoodiL c’est une bande de potes addicts aux good vibes \, à la danse\, aux sons électro\, de la world electro\, minimal\, ghetto funk\, deep house\, downtempo\, dirty tek and even more….\nRejoins nous pour faire la fête !
URL:https://le-ka-oneagain.org/concert/krewkoodil/
LOCATION:Le KA\, 148 Avenue des Chalus\, Forcalquier\, 04300\, France
CATEGORIES:Concert
ATTACH;FMTTYPE=image/jpeg:https://le-ka-oneagain.org/wp-content/uploads/2025/09/krewkoodil.jpg
ORGANIZER;CN="One Again":MAILTO:direction@le-ka-oneagain.org
END:VEVENT
BEGIN:VEVENT
DTSTART;TZID=Europe/Paris:20251024T180000
DTEND;TZID=Europe/Paris:20251024T180000
DTSTAMP:20260420T183737
CREATED:20250911T125115Z
LAST-MODIFIED:20250916T133905Z
UID:1315-1761328800-1761328800@le-ka-oneagain.org
SUMMARY:MAD GONI
DESCRIPTION:Sortie de résidence   (en résidence au Ka du 20 au 24) \nOuverture 18h – Concert 19h –\nParticipation à partir de 5€ \n  \nMAD GONI\n5 musiciens autour de Mamadou Dembélé nous invitent à un voyage dynamique et dépaysant. \nAvec son Kamalé Ngoni\, instrument traditionnel\, il construit un univers musical qu’il a su adapter aux influences modernes.\nIl s’inspire notamment des grands maîtres de la musique MANDINGUE.\nSes nouvelles compositions tissent des passerelles entre la culture mandingue et les musiques actuelles. \n 
URL:https://le-ka-oneagain.org/concert/mad-goni/
LOCATION:Le KA\, 148 Avenue des Chalus\, Forcalquier\, 04300\, France
CATEGORIES:Concert
ATTACH;FMTTYPE=image/jpeg:https://le-ka-oneagain.org/wp-content/uploads/2025/09/MadGoni-1.jpg
ORGANIZER;CN="One Again":MAILTO:direction@le-ka-oneagain.org
END:VEVENT
BEGIN:VEVENT
DTSTART;TZID=Europe/Paris:20251025T200000
DTEND;TZID=Europe/Paris:20251025T200000
DTSTAMP:20260420T183737
CREATED:20250911T133552Z
LAST-MODIFIED:20250916T134013Z
UID:1320-1761422400-1761422400@le-ka-oneagain.org
SUMMARY:VANUPIE + LEO ACHENZA + ALBA
DESCRIPTION:Dans le cadre du tremplin Class’EuRock réservé aux jeunes musiciens et musiciennes de notre région PACA la fin d’année est consacrée aux tournées Class’EuRock\, moment où les groupes lauréats peuvent parfaire leur expérience de la scène sous l’angle mini tournée. \n  \nCe soir\, on reçoit VANUPIE\, LEO ACHENZA des Raspigaous et ALBA en première partie (lauréat Class’Eurock 2025) !\nCette date est co-organisée par les associations Aix’Qui? et One Again! \nOuverture 20h – Concert 21H \n \nVANUPIE\nVanupié sonne comme une invitation chaleureuse au voyage\, comme un hymne à la vie de bohème que le chanteur et guitariste a côtoyé pendant plusieurs années. \nDepuis 2004\, sa voix suave accompagnée d’un reggae épicé savoureusement entremêlé de soul music parvient à faire ralentir le rythme du métro parisien\, Vanupié créé le buzz. \n \n\nLEO ACHENZA\nLÉO\, est depuis les années 90\, un acteur majeur de la scène Reggae Française. Connu pour être le chanteur / leader du groupe RASPIGAOUS\, LÉO explore en transversale l’univers Roots Reggae Acoustique\, seul en scène… \nSa voix solaire et ses envolées de scats interminable\, en font le ténor du Reggae Marseillais\, style qu’il revendique et défend\, guitare à la main.\nLÉO viendra nous faire découvrir son univers hautement coloré de Soul et de Reggae Vocal À découvrir\, ou redécouvrir sans plus tarder!!! \n  \n\n\n  \nALBA\nALBA emmène en voyage incandescent. A travers des instrumentations berçées d’inspirations soul\, rock\, et de brisures de modernité\, la voix d’ALBA orchestre une danse hypnotisante \n 
URL:https://le-ka-oneagain.org/concert/vanupie-leo-achenza-alba/
LOCATION:Le KA\, 148 Avenue des Chalus\, Forcalquier\, 04300\, France
CATEGORIES:Concert
ATTACH;FMTTYPE=image/jpeg:https://le-ka-oneagain.org/wp-content/uploads/2025/09/Vanupie_achenza_alba.jpg
END:VEVENT
BEGIN:VEVENT
DTSTART;TZID=Europe/Paris:20251031T190000
DTEND;TZID=Europe/Paris:20251031T190000
DTSTAMP:20260420T183737
CREATED:20250912T123613Z
LAST-MODIFIED:20250916T134242Z
UID:1340-1761937200-1761937200@le-ka-oneagain.org
SUMMARY:ACAMPA
DESCRIPTION:ACAMPA\nSortie de résidence  ( en résidence au Ka  du 28 au 31 octobre )\nOuverture 19h – Concert 20h \nAcampa\, une énergie musicale addictive émise par une meute fraîchement descendue des montagnes. \nPlein de surprises\, d’émotions et de bonnes vibrations. Le big band vous emmène là où vous ne vous attendez pas. De la funk ? Oui mais pas que… Les influences sont multiples\, du reggae au latino en passant par le rock\, Acampa fusionne les styles au service d’une passion : le Groove !
URL:https://le-ka-oneagain.org/concert/acampa-2/
LOCATION:Le KA\, 148 Avenue des Chalus\, Forcalquier\, 04300\, France
CATEGORIES:Concert
ATTACH;FMTTYPE=image/jpeg:https://le-ka-oneagain.org/wp-content/uploads/2025/09/acampa_talentt.jpg
ORGANIZER;CN="One Again":MAILTO:direction@le-ka-oneagain.org
END:VEVENT
END:VCALENDAR