BEGIN:VCALENDAR
VERSION:2.0
PRODID:-//LE KA - CONCERTS - SPECTACLES - ECPv6.15.20//NONSGML v1.0//EN
CALSCALE:GREGORIAN
METHOD:PUBLISH
X-ORIGINAL-URL:https://le-ka-oneagain.org
X-WR-CALDESC:Évènements pour LE KA - CONCERTS - SPECTACLES
REFRESH-INTERVAL;VALUE=DURATION:PT1H
X-Robots-Tag:noindex
X-PUBLISHED-TTL:PT1H
BEGIN:VTIMEZONE
TZID:Europe/Paris
BEGIN:DAYLIGHT
TZOFFSETFROM:+0100
TZOFFSETTO:+0200
TZNAME:CEST
DTSTART:20240331T010000
END:DAYLIGHT
BEGIN:STANDARD
TZOFFSETFROM:+0200
TZOFFSETTO:+0100
TZNAME:CET
DTSTART:20241027T010000
END:STANDARD
BEGIN:DAYLIGHT
TZOFFSETFROM:+0100
TZOFFSETTO:+0200
TZNAME:CEST
DTSTART:20250330T010000
END:DAYLIGHT
BEGIN:STANDARD
TZOFFSETFROM:+0200
TZOFFSETTO:+0100
TZNAME:CET
DTSTART:20251026T010000
END:STANDARD
BEGIN:DAYLIGHT
TZOFFSETFROM:+0100
TZOFFSETTO:+0200
TZNAME:CEST
DTSTART:20260329T010000
END:DAYLIGHT
BEGIN:STANDARD
TZOFFSETFROM:+0200
TZOFFSETTO:+0100
TZNAME:CET
DTSTART:20261025T010000
END:STANDARD
END:VTIMEZONE
BEGIN:VEVENT
DTSTART;TZID=Europe/Paris:20251101T190000
DTEND;TZID=Europe/Paris:20251101T190000
DTSTAMP:20260420T201733
CREATED:20250912T130731Z
LAST-MODIFIED:20250918T123942Z
UID:1351-1762023600-1762023600@le-ka-oneagain.org
SUMMARY:MAZE (sortie Ep) + LAST RAINBOW + TOO WERDO
DESCRIPTION:Ouverture 19h – Concert 20H –\nParticipation à partir de 5€ \nMAZE\nMaze est un jeune groupe de funk rock\, originaire du 04. Ils créent un mélange explosif avec le groove du funk\, et l’énergie du rock et du métal. Forgés par l’experience scénique des soirées au Ka ainsi qu’à la rigueur des Class’Eurock\, leur EP « Lift » sort le 12 septembre\, composé de 5 titres dont 2 avec clips. M.A.Z.E arrivent donc ce 17 octobre au Ka pour fêter sa sortie comme il se doit et vous attendent très nombreux \n  \n  \nLAST RAINBOW\nLast Rainbow est un trio rock né en 2023 dans la salle de musique de l’université de Nice. Formé autour de l’envie commune de secouer\nla scène musicale\, le groupe puise ses influences dans des formations comme Shaka Ponk\, The Strokes ou Royal Blood. Leur son est à la fois énergique et puissant\, en mélangeant compositions originales et reprises réinventées qui font écho à leur univers unique.\nSur scène\, Last Rainbow se distingue par une énergie brute et communicative. Le groupe aime repousser les limites de ses performances live et partager avec le public ces moments forts. Leurs textes et compositions explorent des thématiques profondes\, notamment la perception d’un\nmonde en fin de cycle et la nécessité d’en construire un nouveau\, plus juste et résilient. Cet univers parfois sombre\, mais toujours porteur d’espoir\, est un appel à embrasser les changements\, malgré la peur qu’ils peuvent susciter. La musique de Last Rainbow traduit cette tension entre un présent\nen déclin et un futur incertain\, avec la volonté d’ouvrir de nouvelles perspectives.\nLes trois membres maîtrisent parfaitement leurs instruments\, et c’est ensemble que leur musique prend toute sa dimension. Chaque morceau devient alors une véritable expérience sonore\, où l’énergie du groupe se déploie pleinement.. \n  \n  \n \nTOO WERDO\nNous sommes un jeune groupe indépendant basé sur Aix en Provence et nous faisons de la pop-rock / hip-hop alternative emplie de multiples inspirations…\nNotre son hybride électro-acoustique mêle un dispositif rock (batterie\, clavier\, guitare et voix) et de la Musique Assistée par Ordinateur qui ramène des touches électro-orchestrales.\nParmi nos influences musicales : Twenty One Pilots\, 5 Seconds of Summer\, Casseurs Flowters\, Bigflo et Oli\, Woodkid\, Amy Winehouse………\nPour nous\, la musique est le langage le plus universel.\nElle permet le partage\, de se rassembler\, de raconter des histoires\, et même pour nous (et on l’espère pour ceux qui écouteront la nôtre)\, de soigner l’Âme.
URL:https://le-ka-oneagain.org/concert/maze_lastrainbow_toowerdo/
LOCATION:Le KA\, 148 Avenue des Chalus\, Forcalquier\, 04300\, France
CATEGORIES:Concert
ATTACH;FMTTYPE=image/png:https://le-ka-oneagain.org/wp-content/uploads/2025/09/AFFICHE-RELEASE-PARTY-MAZE.png
ORGANIZER;CN="One Again":MAILTO:direction@le-ka-oneagain.org
END:VEVENT
BEGIN:VEVENT
DTSTART;TZID=Europe/Paris:20251102T200000
DTEND;TZID=Europe/Paris:20251102T200000
DTSTAMP:20260420T201733
CREATED:20250912T125717Z
LAST-MODIFIED:20251104T181846Z
UID:1343-1762113600-1762113600@le-ka-oneagain.org
SUMMARY:SOOM T + MALI + CHASSEUR TIE
DESCRIPTION:Dans le cadre du tremplin Class’EuRock réservé aux jeunes musiciens et musiciennes de notre région PACA la fin d’année est consacrée aux tournées Class’EuRock\, moment où les groupes lauréats peuvent parfaire leur expérience de la scène sous l’angle mini tournée. \nCe soir\, on reçoit Soom T\, Mali et Myuktoria (Lauréats Class’Eurock 2025)\n\nCette date est co-organisée par les associations Aix’Qui? et One Again! \nOuverture 20h – Concert 21H \n \nSOOM T\nOriginaire de Glasgow\, Soom T parcourt le monde depuis plus de 20 ans avec son attitude excentrique\, son style inimitable et un flow complètement dément !\nArtiste engagée et figure incontournable du reggae underground\, Soom T revient en 2025 avec une tournée sound system survoltée. Une performance explosive à ne pas manquer \n \nMALI\nMali\, artiste émergente de la scène hip-hop/rap PACA\, vient avec une approche bien à elle du rap en mettant en paradoxe des instrus qui tabassent\, et des harmonies vocales;tout en faisant un bon équilibre entre rap et chant. \nElle compose et écrit ses propres morceaux\, à écouter dans son premier EP « C’est qu’une étape » sorti récemment sur toutes les plateformes. \n \nCHASSEUR TIE    (lauréat ClassEurock)\n \n 
URL:https://le-ka-oneagain.org/concert/soom-t-mali-chasseur-tie/
LOCATION:Le KA\, 148 Avenue des Chalus\, Forcalquier\, 04300\, France
CATEGORIES:Concert
ATTACH;FMTTYPE=image/jpeg:https://le-ka-oneagain.org/wp-content/uploads/2025/09/affichesoomTc.jpg
END:VEVENT
BEGIN:VEVENT
DTSTART;TZID=Europe/Paris:20251108T200000
DTEND;TZID=Europe/Paris:20251108T200000
DTSTAMP:20260420T201733
CREATED:20250912T141033Z
LAST-MODIFIED:20251104T163824Z
UID:1365-1762632000-1762632000@le-ka-oneagain.org
SUMMARY:PICON MON AMOUR + LEANE LATATANE
DESCRIPTION:Ouverture 20h – Concert 21h \nPICON MON AMOUR\nchanson française mais en moins chiant \nAvec leurs chansons culottées à deux voix\, ce couple déjanté étanche notre soif musicale et fait swinguer nos zygomatiques. Laurène\, à l’accordéon et au chant\, tient sa position d’un franc-parler moqueur pendant que Jojo\, aux multiples basses\, percu\, ukulélé et chant essaie de lui voler la vedette par sa spontanéité burlesque. \n​​Le Duo a vu le jour en 2015 dans les Hautes Cévennes. Ils sortent leur 1ier E.P « Qui s’y frotte s’y prine » en 2017\, le 2iem en 2019 et leurs 1ier album « Une bouteille à la mer » en 2022. Avec plus de 500 concerts à leur actif ils nous proposent aujourd’hui un show dans lequel se mélangent des compositions festives\, intimes et tendancieuses mais aussi quelques reprises qui les ont marqués dans leur amour pour la chanson ! Au gré de leurs impros ils partagent leur vision du monde en s’éclatant sur scène et embarquent tout le monde dans leur délire musical. \n \nLEANE LATATANE\nchanson à texte \nJeune artiste du 04\, ‘Talent d’ici’. Chanson française piquée d’humour\, d’amour\, d’engagement\, Léane ne nous / vous laissera pas indifférent ! Une artiste à suivre…
URL:https://le-ka-oneagain.org/concert/picon-mon-amour/
LOCATION:Le KA\, 148 Avenue des Chalus\, Forcalquier\, 04300\, France
CATEGORIES:Concert
ATTACH;FMTTYPE=image/jpeg:https://le-ka-oneagain.org/wp-content/uploads/2025/09/piconmonamour.jpg
ORGANIZER;CN="One Again":MAILTO:direction@le-ka-oneagain.org
END:VEVENT
BEGIN:VEVENT
DTSTART;TZID=Europe/Paris:20251114T190000
DTEND;TZID=Europe/Paris:20251114T190000
DTSTAMP:20260420T201733
CREATED:20250912T130313Z
LAST-MODIFIED:20251109T135332Z
UID:1349-1763146800-1763146800@le-ka-oneagain.org
SUMMARY:MAR Y NOTAS
DESCRIPTION:Sortie de résidence ‘Talents d’ici’ avec  \nMAR Y NOTAS. \nOuverture 19h – Concert 20h –\nParticipation à partir de 5€ \nMar y notas\nLa mer et les notes \nMarion\, elle écrie des kilometres foulés et des gens rencontrés\, des paysages\, de la mer et de ses marées\, du temps qui passe\, d’une note qui vibre fort\, d’une émotion\, de la vie. \nUn voyage musicalement éclectique… d’une « bossa » qui s’en ira valser\, d’un funk qui croisera la route d’un slam pour finalement plier les genoux sur un reggae qui s’habillera en chacarera… \nÉclectique vous avez dit ?\nAlors? Vous embarquez ? \n 
URL:https://le-ka-oneagain.org/concert/talents-dici_10102025/
LOCATION:Le KA\, 148 Avenue des Chalus\, Forcalquier\, 04300\, France
CATEGORIES:Concert
ATTACH;FMTTYPE=image/jpeg:https://le-ka-oneagain.org/wp-content/uploads/2025/09/carre_fb-mar_y_notas-scaled.jpg
ORGANIZER;CN="One Again":MAILTO:direction@le-ka-oneagain.org
END:VEVENT
BEGIN:VEVENT
DTSTART;TZID=Europe/Paris:20251115T200000
DTEND;TZID=Europe/Paris:20251115T200000
DTSTAMP:20260420T201733
CREATED:20250915T143123Z
LAST-MODIFIED:20251109T135623Z
UID:1423-1763236800-1763236800@le-ka-oneagain.org
SUMMARY:SOIRÉE MÉTAL
DESCRIPTION:CASTELBRAVO\nUn parcours sans faille pour Castlebravo\, ce groupe de métal manosquin qui ne fait pas les choses à moitié depuis deux ans. Pour Rémi\, Martin\, Lucas et Romain\, faire du rock métal a toujours été une évidence. \nLeur musique mêle plusieurs influences comme le thrash métal\, le heavy métal ou encore le grunge. \n \n\nSocial Prophecy shooting promo\nSOCIAL PROPHECY\n  \nFormé en 2019\, Social Prophecy a pour but de laisser son empreinte sur la scène du Metal moderne. \nLe groupe est composé de 2 guitares alliant violence et mélodie\, d’une basse vrombissante\, d’un chant clair envoûtant et dénonciateur ainsi que d’une batterie marquant l’intensité de la musique de Social Prophecy.
URL:https://le-ka-oneagain.org/concert/soiree-metal-2/
LOCATION:Le KA\, 148 Avenue des Chalus\, Forcalquier\, 04300\, France
CATEGORIES:Concert
ATTACH;FMTTYPE=image/jpeg:https://le-ka-oneagain.org/wp-content/uploads/2025/09/carre_fb-Metal-scaled.jpg
ORGANIZER;CN="One Again":MAILTO:direction@le-ka-oneagain.org
END:VEVENT
BEGIN:VEVENT
DTSTART;TZID=Europe/Paris:20251122T200000
DTEND;TZID=Europe/Paris:20251122T200000
DTSTAMP:20260420T201733
CREATED:20250916T142508Z
LAST-MODIFIED:20251109T135804Z
UID:1466-1763841600-1763841600@le-ka-oneagain.org
SUMMARY:SISKA + DJ KEP DANY
DESCRIPTION:Ouverture 20h – Concert 21h \nSISKA\nLibre et insaisissable\, Siska a toujours navigué entre les styles\, du reggae à la soul en passant par le trip-hop. Révélée avec Watcha Clan\, elle a écumé les scènes du monde entier avant d’entamer une carrière solo très remarquée. Après un retour aux sources marqué par sa collaboration avec Prince Fatty\, elle plonge plus profondément dans le reggae\, prête à dévoiler un album intense et vibrant. Son nouvel album est sortie\, et elle compte bien le défendre sur la scène du Ka avec une énergie inégalable. \n \nDJ KEP DANY\n  \nCompositeur\, beatmaker\, Dj\, parolier et inventeur de Sangîta\, il n’en reste pas moins un excellent selecta. Ce soir il nous fera partager ces pépites Roots\, Rock et Reggae. Balafi sera aussi de la partie pour un featuring dynamique !
URL:https://le-ka-oneagain.org/concert/siska/
LOCATION:Le KA\, 148 Avenue des Chalus\, Forcalquier\, 04300\, France
CATEGORIES:Concert
ATTACH;FMTTYPE=image/jpeg:https://le-ka-oneagain.org/wp-content/uploads/2025/09/carre_fb-siska-scaled.jpg
ORGANIZER;CN="One Again":MAILTO:direction@le-ka-oneagain.org
END:VEVENT
BEGIN:VEVENT
DTSTART;TZID=Europe/Paris:20251129T190000
DTEND;TZID=Europe/Paris:20251129T230000
DTSTAMP:20260420T201733
CREATED:20250912T121809Z
LAST-MODIFIED:20251109T135937Z
UID:1337-1764442800-1764457200@le-ka-oneagain.org
SUMMARY:SCÈNE OUVERTE / DÉCOUVERTES
DESCRIPTION:Les scènes ouvertes sont des moments exceptionnels où se retrouvent bon nombre d’artistes locaux et régionaux de tous horizons\, amateurs ou professionnels et de tous âges. \nLe KA met à disposition sono\, micros et batterie. La règle est simple : jouer d’un instrument\, tous les styles et les niveaux sont acceptés\, pas de rivalité\, partage et amitiés musicales aux rendez-vous. Les uns\, plus expérimentés soutiennent les autres\, c’est ainsi qu’on avance. Depuis\, de nouveaux talents ont vu le jour. L’entrée est libre. \nLe BŒUF Comment ça marche ? Dans la boite correspondant à son instrument\, on met son nom et on attend d’être tiré au sort\, quand le line up est en place\, on pioche une suite d’accord (facile) et enfin on choisi un tempo ou un style. 3\, 4\, c’est parti pour le 1er morceau\, la suite c’est eux qui l’invente !\nToutes les 20 min\, on tire au sort de nouveaux musiciens et le plateau change\, simple non ? Plus on est de fous\, plus ça joue !!! On peu faire aussi des compos perso\, des reprises\, des plagias\, et même de l’impro. \nLes DECOUVERTES. C’est l’occasion pour ces nouveaux talents d’expérimenter leurs créations et de les faire découvrir au public.
URL:https://le-ka-oneagain.org/concert/scene-ouverte-decouvertes-29112025/
LOCATION:Le KA\, 148 Avenue des Chalus\, Forcalquier\, 04300\, France
CATEGORIES:Scène Ouverte
ATTACH;FMTTYPE=image/jpeg:https://le-ka-oneagain.org/wp-content/uploads/2025/09/carre_fb-scene_ouverte-scaled.jpg
ORGANIZER;CN="One Again":MAILTO:direction@le-ka-oneagain.org
END:VEVENT
BEGIN:VEVENT
DTSTART;TZID=Europe/Paris:20251130T170000
DTEND;TZID=Europe/Paris:20251130T190000
DTSTAMP:20260420T201733
CREATED:20250916T143642Z
LAST-MODIFIED:20251109T140345Z
UID:1469-1764522000-1764529200@le-ka-oneagain.org
SUMMARY:Les Aventures de RIT
DESCRIPTION: Spectacle : Les Aventures de RIT – 17h – 5€ \nRIT : Concert En Bazar (à partir de 7 ans)\nRit (de Riton) est un chansonnier\, auteur et compositeur. \nAutodidacte\, touche à tout\, il traîne sa musique comme on traîne un baluchon ; avec le plus strict nécessaire. Il erre à sa guise\, d’un courant musical à un autre\, s’affranchissant des modes et des tendances à l’aise comme dans de vieilles nippes. Car ce quinquagénaire a « trimardé » sa guitare\, ses chansons et son allure débonnaire aux quatre coins du globe\,\nperpétuant ainsi le mythe du Hobo\, figure mythique de l’imaginaire américain épris de liberté. Hobo musical\, débrouillard et optimiste\, il sillonne les contrées musicales avec la liberté et l’insouciance de ceux qui voyagent sans billet. Du Blues au Folk\, du Rock au Hip-Hop\, il vagabonde pieds nus\, posant un regard ingénu sur les contradictions du monde qui nous entoure\, et ça depuis plus de vingt-cinq ans. \n \nAprès le conte musical « Le Voleur de Sommeil » en 2013 (Actes sud Jeunesse)\, Rit revient avec Concert en Bazar.\nSeul\, en homme-orchestre (batterie aux pieds\, guitare ou banjo\, harmonica\, voix\, le tout joué ensemble) et dans un grand désordre d’instruments\, de câbles et d’objets divers.
URL:https://le-ka-oneagain.org/concert/les-aventures-de-rit/
LOCATION:Le KA\, 148 Avenue des Chalus\, Forcalquier\, 04300\, France
CATEGORIES:Spectacle,Spectacles Jeune Public
ATTACH;FMTTYPE=image/jpeg:https://le-ka-oneagain.org/wp-content/uploads/2025/09/carre_fb_rit-scaled.jpg
ORGANIZER;CN="One Again":MAILTO:direction@le-ka-oneagain.org
END:VEVENT
END:VCALENDAR