BEGIN:VCALENDAR
VERSION:2.0
PRODID:-//LE KA - CONCERTS - SPECTACLES - ECPv6.15.20//NONSGML v1.0//EN
CALSCALE:GREGORIAN
METHOD:PUBLISH
X-ORIGINAL-URL:https://le-ka-oneagain.org
X-WR-CALDESC:Évènements pour LE KA - CONCERTS - SPECTACLES
REFRESH-INTERVAL;VALUE=DURATION:PT1H
X-Robots-Tag:noindex
X-PUBLISHED-TTL:PT1H
BEGIN:VTIMEZONE
TZID:Europe/Paris
BEGIN:DAYLIGHT
TZOFFSETFROM:+0100
TZOFFSETTO:+0200
TZNAME:CEST
DTSTART:20240331T010000
END:DAYLIGHT
BEGIN:STANDARD
TZOFFSETFROM:+0200
TZOFFSETTO:+0100
TZNAME:CET
DTSTART:20241027T010000
END:STANDARD
BEGIN:DAYLIGHT
TZOFFSETFROM:+0100
TZOFFSETTO:+0200
TZNAME:CEST
DTSTART:20250330T010000
END:DAYLIGHT
BEGIN:STANDARD
TZOFFSETFROM:+0200
TZOFFSETTO:+0100
TZNAME:CET
DTSTART:20251026T010000
END:STANDARD
BEGIN:DAYLIGHT
TZOFFSETFROM:+0100
TZOFFSETTO:+0200
TZNAME:CEST
DTSTART:20260329T010000
END:DAYLIGHT
BEGIN:STANDARD
TZOFFSETFROM:+0200
TZOFFSETTO:+0100
TZNAME:CET
DTSTART:20261025T010000
END:STANDARD
END:VTIMEZONE
BEGIN:VEVENT
DTSTART;TZID=Europe/Paris:20251205T190000
DTEND;TZID=Europe/Paris:20251205T190000
DTSTAMP:20260420T152904
CREATED:20250916T143956Z
LAST-MODIFIED:20251120T110802Z
UID:1472-1764961200-1764961200@le-ka-oneagain.org
SUMMARY:DIDIER LA RAFALE
DESCRIPTION:Sortie de résidence ‘Talents d’ici’ avec  \nDIDIER LA RAFALE\nOuverture 19h – Concert 20h –\nParticipation à partir de 5€ \n  \nFaisant le pont entre leurs univers marin\, la musique des Balkans et des sonorités aqua-électroniques un voyage introsfestif à 220 bmp\, en plein cœur de ton subconscient\, c’est à la frontière de ton imaginaire que clarinette et saxophone t’invite. \nEn résidence du 2 au 5 decembre pour un nouveau show ! Un talent d’ici.
URL:https://le-ka-oneagain.org/concert/didier-larafale/
LOCATION:Le KA\, 148 Avenue des Chalus\, Forcalquier\, 04300\, France
CATEGORIES:Concert
ATTACH;FMTTYPE=image/jpeg:https://le-ka-oneagain.org/wp-content/uploads/2025/09/didierlarafale2.jpg
ORGANIZER;CN="One Again":MAILTO:direction@le-ka-oneagain.org
END:VEVENT
BEGIN:VEVENT
DTSTART;TZID=Europe/Paris:20251207T200000
DTEND;TZID=Europe/Paris:20251207T200000
DTSTAMP:20260420T152904
CREATED:20250915T150735Z
LAST-MODIFIED:20251109T141506Z
UID:1428-1765137600-1765137600@le-ka-oneagain.org
SUMMARY:LES RAMONEURS DE MENHIRS + AGARTHA
DESCRIPTION:Dans le cadre du tremplin Class’EuRock réservé aux jeunes musiciens et musiciennes de notre région PACA la fin d’année est consacrée aux tournées Class’EuRock\, moment où les groupes lauréats peuvent parfaire leur expérience de la scène sous l’angle mini tournée. \nCe soir\, on reçoit les Ramoneurs de Menhirs et Agartha (lauréats Class’Eurock 2025)\nCette date est co-organisée par les associations Aix’Qui? et One Again! \nOuverture 20h – Concert 21H \nPréventes 13 € \, Sur place 16€ \n \nLES RAMONEURS DE MENHIRS\nGroupe de rock punk celtique\, Les Ramoneurs de Menhirs est formé au départ du couple de sonneurs Eric Gorce et Richard Bevillon ainsi que Maurice Jouanno chanteur traditionnel breton.Loran\, guitariste des Béruriers Noirs complète le tableau atypique de ce groupe hors du commun.Incontournable\, inimitable ! \n \n  \n \n  \nAGARTHA\n(punk metal ) \nAGARTHA est un power trio de Dirt : un alliage de punk\, metal et ses dérivés pour donner un rendu énergique mélodieux et chantant. \nBasé sur Avignon\, leur personnalité se révèle sur scène avec des lives bourrés d’énergie qui font décoller le public.\nAprès un début difficile\, leur premier morceau 6729\, est sortie sur les plateformes en février dernier. \n  \n 
URL:https://le-ka-oneagain.org/concert/les-ramoneurs-de-menhirs-agartha/
LOCATION:Le KA\, 148 Avenue des Chalus\, Forcalquier\, 04300\, France
CATEGORIES:Concert
ATTACH;FMTTYPE=image/jpeg:https://le-ka-oneagain.org/wp-content/uploads/2025/09/carre_fb-ramoneurs-scaled.jpg
END:VEVENT
BEGIN:VEVENT
DTSTART;TZID=Europe/Paris:20251213T200000
DTEND;TZID=Europe/Paris:20251213T200000
DTSTAMP:20260420T152904
CREATED:20251109T141217Z
LAST-MODIFIED:20251109T142036Z
UID:1520-1765656000-1765656000@le-ka-oneagain.org
SUMMARY:SPACE PIERO & The TuTTi Funky
DESCRIPTION:SPACE PIERO & The TuTTi Funky\nOuverture 20h – Concert 21h –\nTarif 10€ / reduit 8€ \nSpace Piero & The TuTTi FunKy est un quintet de funk qui explore à travers ses compositions aux\ncouleurs Funk Rock Psychédéliques l’improvisation comme terrain de jeu permanent.\nLes inspirations sont éclectiques et puisent autant dans la création d’ambiances sonores que dans l’écriture harmonique.\nPorté par la complicité entre ses membres\, Space Piero & The TuTTi FunKy sont de véritables missionnaires du funk ancestral et vibrent d’un Groove puissant.\nSur scène ils offrent une expérience live euphorisante emmenée par le flamboyant Space Piero\, guitariste épris de liberté sonore et véritable ambianceur cosmique. \nInspiré par des figures comme James Brown\, Fearless Flyers\, les Vulfpeck ou encore les musiques groove funk jazz (Daniel Humaire\, Henri Texier\, Julien Lureau)\, le rock 70’s (Led Zep\, Hendrix) et 90’s (Red Hot\, Primus)\,\nSpace Piero & The TuTTi FunKy proposent un voyage sonore haut en couleurs avec cuivres en fusion et grooves zébrés à secouer les hanches les plus timides.
URL:https://le-ka-oneagain.org/concert/space-piero-the-tutti-funky/
LOCATION:Le KA\, 148 Avenue des Chalus\, Forcalquier\, 04300\, France
CATEGORIES:Concert
ATTACH;FMTTYPE=image/jpeg:https://le-ka-oneagain.org/wp-content/uploads/2025/11/carre_fb-space-piero-scaled.jpg
ORGANIZER;CN="One Again":MAILTO:direction@le-ka-oneagain.org
END:VEVENT
BEGIN:VEVENT
DTSTART;TZID=Europe/Paris:20251218T200000
DTEND;TZID=Europe/Paris:20251218T200000
DTSTAMP:20260420T152904
CREATED:20251104T171511Z
LAST-MODIFIED:20251109T141707Z
UID:1507-1766088000-1766088000@le-ka-oneagain.org
SUMMARY:LADY LA FEE + SELECTA
DESCRIPTION:  \nLe Petit Noël du Ka (# 1) avec \nLADY LA FEE\npop rock kabaret \nInattendu\, baroque\, rétro-Futuriste\,\nLLF ré-invente les années 80/90 avec une bonne dose de folie \nPop\, Rock\, Folk\, Créole\, Chansons Françaises\,\nTubes Internationaux & Musiques Festives…\nUn spectacle Théâtral qui transcende les genres \nhttps://youtu.be/3efbQQTDkhg
URL:https://le-ka-oneagain.org/concert/lady-la-fee-selecta/
LOCATION:Le KA\, 148 Avenue des Chalus\, Forcalquier\, 04300\, France
CATEGORIES:Concert
ATTACH;FMTTYPE=image/jpeg:https://le-ka-oneagain.org/wp-content/uploads/2025/11/carre_fb-lady_la_fee-scaled.jpg
ORGANIZER;CN="One Again":MAILTO:direction@le-ka-oneagain.org
END:VEVENT
BEGIN:VEVENT
DTSTART;TZID=Europe/Paris:20251219T200000
DTEND;TZID=Europe/Paris:20251219T200000
DTSTAMP:20260420T152904
CREATED:20251104T172820Z
LAST-MODIFIED:20251109T143142Z
UID:1511-1766174400-1766174400@le-ka-oneagain.org
SUMMARY:POUM TCHACK + MEETING POINT
DESCRIPTION:Dans le cadre du tremplin Class’EuRock réservé aux jeunes musiciens et musiciennes de notre région PACA la fin d’année est consacrée aux tournées Class’EuRock\, moment où les groupes lauréats peuvent parfaire leur expérience de la scène sous l’angle mini tournée. \nCette date est co-organisée par les associations Aix’Qui? et One Again!\n \nOuverture 20h – Concert 21h. \nPréventes 10 € \, Sur place 13€ \n \nLe Petit Noël du Ka (#2) avec  \nPOUM TCHACK \n swing gypsy rock \nVenu de Marseille\, Poum Tchack a écumé les scènes du monde entier\, distillant sur son passage un swing des plus énergiques\, mêlé de sonorités tziganes\, de virtuosité\, d’humour et de complicité. Ils reviennent en version Quintet : Violon\, guitares\, contrebasse\, batterie\, l’acoustique est à l’honneur\, le rock n’est jamais très loin ! \nLe groupe naît en 1997 dans la région d’Aix-en-Provence de la rencontre entre Olivier Dambezat et Alexandre Morier\, tous deux guitaristes amoureux de jazz-swing. Ils sont presque immédiatement rejoints par Samuel Bobin\, batteur. Le trio joue partout dans la région Paca et ira même jusqu’à faire une tournée des pubs en Irlande. Puis\, en 1998\, le violoniste Jean-Philip Steverlynck\, le bandonéoniste Lionel Elian et le contrebassiste Emmanuel Reymond les rejoignent\, formant ainsi la composition définitive de ce groupe de jazz manouche. \nPortant haut les couleurs de la musique de Django Reinhardt et de Stéphane Grappelli\, le sextette enregistre un premier album\, simplement appelé Poum Tchack\, qui sort en 2002\, après une prestation remarquée dans le cadre du Tremplin du Printemps de Bourges. \nEn 2005\, Poum Tchack enregistre Delirium Live. Constamment en tournée\, la notoriété des Poum Tchack dépasse bientôt les frontières. En 2011\, le groupe revient avec Billie. Cet album moins swing et plus jazz\, est constitué de reprises de chansons de Billie Holiday et de musiques inspirées par l’univers\, la vie et les mots de la chanteuse légendaire. \nMEETING POINT\nrock \,lauréat ClassEurock \nMeting Point\, ils/ elles n’ont pas encore 20 ans et c’est déjà un très bon groupe de Pop Rock dans le paysage de la Région Sud Basé dans le Var\, lauréat du tremplin ClassEurock 2025 \n 
URL:https://le-ka-oneagain.org/concert/poum-tchack-meeting-point/
LOCATION:Le KA\, 148 Avenue des Chalus\, Forcalquier\, 04300\, France
CATEGORIES:Concert
ATTACH;FMTTYPE=image/jpeg:https://le-ka-oneagain.org/wp-content/uploads/2025/11/carre_fb-poum-scaled.jpg
END:VEVENT
END:VCALENDAR